BEGIN:VCALENDAR
VERSION:2.0
PRODID:-//ChamberMaster//Event Calendar 2.0//EN
METHOD:PUBLISH
X-PUBLISHED-TTL:P3D
REFRESH-INTERVAL:P3D
CALSCALE:GREGORIAN
BEGIN:VEVENT
DTSTART;VALUE=DATE:20240323
DTEND;VALUE=DATE:20240324
TRANSP:TRANSPARENT
X-MICROSOFT-CDO-ALLDAYEVENT:TRUE
SUMMARY:Mother Daughter Tea Party
DESCRIPTION:Join us for a delightful Mother-Daughter Tea Party! A charming event filled with sweet treats\, elegant teas\, and cherished moments shared between mothers and daughters. Come enjoy an afternoon of laughter\, love\, and special memories in a warm and inviting atmosphere.\n\n\n\nWe will host 2 Tea Parties throughout the day each tea party is geared to different age groups. However\, you can bring your daughter's to either tea party. \n\n \n\n\n\nWhen: March 23rd\, 2024\n\nWhere: Severance High School\n\n\nTickets-SOLD OUT
X-ALT-DESC;FMTTYPE=text/html:<p><span style="font-size:16px\;"><span style="font-family:tahoma\;">Join us for a delightful Mother-Daughter Tea Party! A charming event filled with sweet treats\, elegant teas\, and cherished moments shared between mothers and daughters. Come enjoy an afternoon of laughter\, love\, and special memories in a warm and inviting atmosphere.</span><br />\n<br />\n<span style="color:#333333\;"><span style="font-family:tahoma\,sans-serif\;">We will host 2&nbsp\;Tea Parties throughout the day each tea party is geared to different age groups. However\, you can bring your daughter&#39\;s to either tea party.&nbsp\;</span></span><br />\n&nbsp\;</span><br />\n<br />\n<strong><span style="font-size:16px\;"><span style="font-family:tahoma\;">When: March 23rd\, 2024<br />\nWhere: Severance High School</span></span></strong></p>\n<br />\n<span style="color:#FF0000\;"><strong><font face="tahoma"><span style="font-size: 16px\;">Tickets-SOLD OUT</span></font></strong></span><br />\n&nbsp\;
LOCATION:
UID:e.2900.10887
SEQUENCE:3
DTSTAMP:20260420T020715Z
URL:https://business.windsorchamber.net/events/details/mother-daughter-tea-party-03-23-2024-10887
END:VEVENT

END:VCALENDAR
