BEGIN:VCALENDAR
VERSION:2.0
PRODID:-//ChamberMaster//Event Calendar 2.0//EN
METHOD:PUBLISH
X-PUBLISHED-TTL:P3D
REFRESH-INTERVAL:P3D
CALSCALE:GREGORIAN
BEGIN:VEVENT
DTSTART:20190126T170000Z
DTEND:20190126T183000Z
X-MICROSOFT-CDO-ALLDAYEVENT:FALSE
SUMMARY:Mother Daughter Tea Party
DESCRIPTION:Join us for a morning filled with petit fours\, tea and all things delightful.  We'll provide the hot water\, tea and light pastries.  Have your own tea set? Bring it along. Guests will have the opportunity to decorate their own tea cup\, play games and enjoy some girl time.  When registering\, please sign up mom and each accompanying daughter.  Please call 970-674-3500 to register\; online registration is NOT available.  Cost is $15 per person.  REcommended for youth ages 3 - 12.
X-ALT-DESC;FMTTYPE=text/html:Join us for a morning filled with petit fours\, tea and all things delightful.&nbsp\; We&#39\;ll provide the hot water\, tea and light pastries.&nbsp\; Have your own tea set? Bring it along. Guests will have the opportunity to decorate their own tea cup\, play games and enjoy some girl time.&nbsp\; When registering\, please sign up mom and each accompanying daughter.&nbsp\; Please call 970-674-3500 to register\; online registration is NOT available.&nbsp\; Cost is $15 per person.&nbsp\; REcommended for youth ages 3 - 12.
LOCATION:Windsor Community Recreation Center - 250 N. 11th Street
UID:e.2900.1563
SEQUENCE:3
DTSTAMP:20260423T215822Z
URL:https://business.windsorchamber.net/events/details/mother-daughter-tea-party-1563
END:VEVENT

END:VCALENDAR
