BEGIN:VCALENDAR
VERSION:2.0
PRODID:-//ChamberMaster//Event Calendar 2.0//EN
METHOD:PUBLISH
X-PUBLISHED-TTL:P3D
REFRESH-INTERVAL:P3D
CALSCALE:GREGORIAN
BEGIN:VEVENT
DTSTART:20240326T233000Z
DTEND:20240327T020000Z
X-MICROSOFT-CDO-ALLDAYEVENT:FALSE
SUMMARY:Move Through the Darkness Celebration\, 5k & Beanie Pick-up
DESCRIPTION:Join us as we close out the MOVE THROUGH THE DARKNESS CAMPAIGN and celebrate our participants! We will do our usual '5k on a Tuesday' Fun Run at Mash Lab Brewing & Kitchen and hang around for LIVE MUSIC by Stephen Castle at 6pm.  All of the participants that completed the challenge\, can pick-up their beanies this night! More details will follow but feel free to check out the site!
X-ALT-DESC;FMTTYPE=text/html:Join us as we close out the MOVE THROUGH THE DARKNESS CAMPAIGN and celebrate our participants! We will do our usual &#39\;5k on a Tuesday&#39\; Fun Run at Mash Lab Brewing &amp\; Kitchen and hang around for LIVE MUSIC by Stephen Castle at 6pm.&nbsp\; All of the participants that completed the challenge\, can pick-up their beanies this night! More details will follow but feel free to check out the site!
LOCATION:Mash Lab Brewing & Kitchen\, 4487 Highland Pkwy\, Windsor CO
UID:e.2900.13151
SEQUENCE:3
DTSTAMP:20260420T020510Z
URL:https://business.windsorchamber.net/events/details/move-through-the-darkness-celebration-5k-beanie-pick-up-13151
END:VEVENT

END:VCALENDAR
