BEGIN:VCALENDAR
VERSION:2.0
PRODID:-//ChamberMaster//Event Calendar 2.0//EN
METHOD:PUBLISH
X-PUBLISHED-TTL:P3D
REFRESH-INTERVAL:P3D
CALSCALE:GREGORIAN
BEGIN:VEVENT
DTSTART:20170805T023000Z
DTEND:20170805T043000Z
X-MICROSOFT-CDO-ALLDAYEVENT:FALSE
SUMMARY:Movies in the Park - GREASE
DESCRIPTION:Join us for our penultimate Movie in the Park \, as we present GREASE at Eastman Park.
X-ALT-DESC;FMTTYPE=text/html:Join us for our penultimate Movie in the Park \, as we present GREASE at Eastman Park.
LOCATION:Eastman Park - 7025 Eastman Park Dr.
UID:e.2900.77
SEQUENCE:3
DTSTAMP:20260424T220910Z
URL:https://business.windsorchamber.net/events/details/movies-in-the-park-grease-77
END:VEVENT

END:VCALENDAR
