BEGIN:VCALENDAR
VERSION:2.0
PRODID:-//ChamberMaster//Event Calendar 2.0//EN
METHOD:PUBLISH
X-PUBLISHED-TTL:P3D
REFRESH-INTERVAL:P3D
CALSCALE:GREGORIAN
BEGIN:VEVENT
DTSTART;VALUE=DATE:20190312
DTEND;VALUE=DATE:20190313
TRANSP:TRANSPARENT
X-MICROSOFT-CDO-ALLDAYEVENT:TRUE
SUMMARY:"NETWORKING AT NOON" AT ROCKY MTN CHIROPRACTIC
DESCRIPTION:Rocky Mtn. Chiropractic will host March's Networking at Noon - Great time to meet and greet Windsor Chamber Members.  You will get to meet Dr. Brent Hextell and his staff and you can introduce yourself to them so they will know what your business is.
X-ALT-DESC;FMTTYPE=text/html:Rocky Mtn. Chiropractic will host March&#39\;s Networking at Noon - Great time to meet and greet Windsor Chamber Members.&nbsp\; You will get to meet Dr. Brent Hextell and his staff and you can introduce yourself to them so they will know what your business is.
LOCATION:Rocky Mountain Chiropractic - 1230 W. Ash Street - Suite 1
UID:e.2900.1576
SEQUENCE:3
DTSTAMP:20260423T190951Z
URL:https://business.windsorchamber.net/events/details/networking-at-noon-at-rocky-mtn-chiropractic-1576
END:VEVENT

END:VCALENDAR
