BEGIN:VCALENDAR
VERSION:2.0
PRODID:-//ChamberMaster//Event Calendar 2.0//EN
METHOD:PUBLISH
X-PUBLISHED-TTL:P3D
REFRESH-INTERVAL:P3D
CALSCALE:GREGORIAN
BEGIN:VEVENT
DTSTART:20170628T180000Z
DTEND:20170628T190000Z
X-MICROSOFT-CDO-ALLDAYEVENT:FALSE
SUMMARY:Networking@Noon Hosted by ALTHOFF CHIROPRACTIC and LEGAL SHIELD
DESCRIPTION:Networking at Noon will be held this month at Althoff Chiropractic with Legal Shield co-hosting. Great time for you all to see Dr. Jill's facility and see what Renee Pifer from Legal Shield offers.   This is a great chance for you to network with other Windsor Chamber Members.  Bring your Business Cards to pass out other Chamber Members!
X-ALT-DESC;FMTTYPE=text/html:Networking at Noon will be held this month at Althoff Chiropractic with Legal Shield co-hosting.&nbsp\;Great time for you all to see Dr. Jill&#39\;s facility and see what Renee Pifer from Legal Shield&nbsp\;offers.&nbsp\;&nbsp\;&nbsp\;This is a great chance for you to&nbsp\;network with other Windsor Chamber Members.&nbsp\; Bring your Business Cards to pass out other Chamber Members!
LOCATION:ALTHOFF CHIROPRACTIC - 1040 WALNUT
UID:e.2900.62
SEQUENCE:3
DTSTAMP:20260425T005642Z
URL:https://business.windsorchamber.net/events/details/networking-noon-hosted-by-althoff-chiropractic-and-legal-shield-62
END:VEVENT

END:VCALENDAR
