BEGIN:VCALENDAR
VERSION:2.0
PRODID:-//ChamberMaster//Event Calendar 2.0//EN
METHOD:PUBLISH
X-PUBLISHED-TTL:P3D
REFRESH-INTERVAL:P3D
CALSCALE:GREGORIAN
BEGIN:VEVENT
DTSTART:20190802T130000Z
DTEND:20190802T143000Z
X-MICROSOFT-CDO-ALLDAYEVENT:FALSE
SUMMARY:New Teacher's Breakfast
DESCRIPTION:The Windsor Chamber of Commerce will be hosting the "New Teacher's Breakfast".  This event is to welcome New Teachers into Weld RE-4 School District. Let's show them our appreciation for their service to the school district\, our Town and the future of our children.
X-ALT-DESC;FMTTYPE=text/html:The Windsor Chamber of Commerce will be hosting the &quot\;New Teacher&#39\;s Breakfast&quot\;.&nbsp\; This event is to welcome New Teachers into Weld RE-4 School District. Let&#39\;s show them our appreciation for their service to the school district\, our Town and the future of our children.&nbsp\;
LOCATION:Severance High School 1200 Hidden Valley Parkway
UID:e.2900.1574
SEQUENCE:3
DTSTAMP:20260423T125236Z
URL:https://business.windsorchamber.net/events/details/new-teacher-s-breakfast-08-02-2019-1574
END:VEVENT

END:VCALENDAR
