BEGIN:VCALENDAR
VERSION:2.0
PRODID:-//ChamberMaster//Event Calendar 2.0//EN
METHOD:PUBLISH
X-PUBLISHED-TTL:P3D
REFRESH-INTERVAL:P3D
CALSCALE:GREGORIAN
BEGIN:VEVENT
DTSTART:20180822T133000Z
DTEND:20180822T150000Z
X-MICROSOFT-CDO-ALLDAYEVENT:FALSE
SUMMARY:NEW TEACHER'S BREAKFAST
DESCRIPTION:The Windsor Chamber of Commerce will be hosting the New Teacher's Breakfast. The Windsor Chamber welcomes all the new Teacher's into our great Windsor Business Community. We make up bags for the New Teacher's with goodies from different Chamber Businesses to tell the Teachers what we have in Windsor.The Windsor Chamber will need the RSVP's by August 15th and the Sponsorships for the Teachers breakfasts.  We will also need the goodies to put in the bags for the New Teachers because that will give us time to make up the bags.
X-ALT-DESC;FMTTYPE=text/html:The Windsor Chamber of Commerce will be hosting the New Teacher&#39\;s Breakfast. The Windsor Chamber welcomes all the new Teacher&#39\;s into our great Windsor Business Community. We make up bags for the New Teacher&#39\;s with goodies from different Chamber Businesses to tell the Teachers what we have in Windsor.The Windsor Chamber will need the RSVP&#39\;s by August 15th and the Sponsorships for the Teachers breakfasts.&nbsp\; We will also need the goodies to put in the bags for the New Teachers because that will give us time to make up the bags.
LOCATION:Severance Middle School -1801 Avery Plaza - Severance\, CO
UID:e.2900.459
SEQUENCE:3
DTSTAMP:20260424T040902Z
URL:https://business.windsorchamber.net/events/details/new-teacher-s-breakfast-459
END:VEVENT

END:VCALENDAR
