BEGIN:VCALENDAR
VERSION:2.0
PRODID:-//ChamberMaster//Event Calendar 2.0//EN
METHOD:PUBLISH
X-PUBLISHED-TTL:P3D
REFRESH-INTERVAL:P3D
CALSCALE:GREGORIAN
BEGIN:VEVENT
DTSTART:20180515T213000Z
DTEND:20180515T230000Z
X-MICROSOFT-CDO-ALLDAYEVENT:FALSE
SUMMARY:North Range Behavioral Health Ribbon Cutting/Open House
DESCRIPTION:Please join us at the new Windsor office of North Range Behavioral Health.  Great time for all of us to welcome them to the Town of Windsor. After the Ribbon Cutting their Open House will follow.
X-ALT-DESC;FMTTYPE=text/html:Please join us at the new Windsor office of North Range Behavioral Health.&nbsp\; Great time for all of us to welcome them to the Town of Windsor. After the Ribbon Cutting their Open House will follow.
LOCATION:North Range Behavioral Health - 1170 W. Ash Street
UID:e.2900.470
SEQUENCE:3
DTSTAMP:20260424T080138Z
URL:https://business.windsorchamber.net/events/details/north-range-behavioral-health-ribbon-cutting-open-house-470
END:VEVENT

END:VCALENDAR
