BEGIN:VCALENDAR
VERSION:2.0
PRODID:-//ChamberMaster//Event Calendar 2.0//EN
METHOD:PUBLISH
X-PUBLISHED-TTL:P3D
REFRESH-INTERVAL:P3D
CALSCALE:GREGORIAN
BEGIN:VEVENT
DTSTART:20180922T190000Z
DTEND:20180923T010000Z
X-MICROSOFT-CDO-ALLDAYEVENT:FALSE
SUMMARY:OKTOBERFEST
DESCRIPTION:Be a part of Windsor's Okoberfest and embrace our German heritage with fun music\, reat food and of course\, great beer!  Boardwalk Park will be a hub of activities (and not just eating and drinking) for the whole family.\n\nHere's a list of activities you can expect :\n\nGerman Food-Beer-Free Photo Booth-Balloon artist-face painting-Yard Games-yard Yahtzee-washers-corn hole- Rec Mobile-German Hat making station-Pretzel necklace station- LIVE Music-Dance Performance-Beer Yoga-Museum Tours
X-ALT-DESC;FMTTYPE=text/html:Be a part of Windsor&#39\;s Okoberfest and embrace our German heritage with fun music\, reat food and of course\, great beer!&nbsp\; Boardwalk Park will be a hub of activities (and not just eating and drinking) for the whole family.<br />\nHere&#39\;s a list of activities you can expect :<br />\nGerman Food-Beer-Free Photo Booth-Balloon artist-face painting-Yard Games-yard Yahtzee-washers-corn hole- Rec Mobile-German Hat making station-Pretzel necklace station- LIVE Music-Dance Performance-Beer Yoga-Museum Tours
LOCATION:Boardwalk Park -
UID:e.2900.1520
SEQUENCE:3
DTSTAMP:20260424T024232Z
URL:https://business.windsorchamber.net/events/details/oktoberfest-1520
END:VEVENT

END:VCALENDAR
