BEGIN:VCALENDAR
VERSION:2.0
PRODID:-//ChamberMaster//Event Calendar 2.0//EN
METHOD:PUBLISH
X-PUBLISHED-TTL:P3D
REFRESH-INTERVAL:P3D
CALSCALE:GREGORIAN
BEGIN:VEVENT
DTSTART:20200409T233000Z
DTEND:20200410T023000Z
X-MICROSOFT-CDO-ALLDAYEVENT:FALSE
SUMMARY:Postponed 4/9 – Annual Awards & Recognition Event
DESCRIPTION:The Windsor Chamber's annual Awards & Recognition Event will feature people who are making a big impact in the local business community. The awards will include:\n\n	Entrepreneur of the Year\n	Non-Profit of the Year\n	Business Person of the Year\n	Health Professional of the Year\n	Customer Service Excellence\n	Ambassador of the year\n	Volunteer of the Year\n	Teacher of the Year\n\nEnjoy an amazing dinner\, a fun evening with friends\, colleagues\, co-workers and family while we celebrate our local business community.
X-ALT-DESC;FMTTYPE=text/html:The Windsor Chamber&#39\;s annual Awards &amp\; Recognition Event will feature people who are making a big impact in the local business community. The awards will include:\n<ul>\n	<li>Entrepreneur of the Year</li>\n	<li>Non-Profit of the Year</li>\n	<li>Business Person of the Year</li>\n	<li>Health Professional of the Year</li>\n	<li>Customer Service Excellence</li>\n	<li>Ambassador of the year</li>\n	<li>Volunteer of the Year</li>\n	<li>Teacher of the Year</li>\n</ul>\nEnjoy an amazing dinner\, a fun evening with friends\, colleagues\, co-workers and family while we celebrate our local business community.&nbsp\;
LOCATION:Big Red Barn Highland Meadows Windsor\, CO
UID:e.2900.3423
SEQUENCE:3
DTSTAMP:20260423T020339Z
URL:https://business.windsorchamber.net/events/details/postponed-4-9-annual-awards-recognition-event-3423
END:VEVENT

END:VCALENDAR
