BEGIN:VCALENDAR
VERSION:2.0
PRODID:-//ChamberMaster//Event Calendar 2.0//EN
METHOD:PUBLISH
X-PUBLISHED-TTL:P3D
REFRESH-INTERVAL:P3D
CALSCALE:GREGORIAN
BEGIN:VEVENT
DTSTART:20181027T160000Z
DTEND:20181027T200000Z
X-MICROSOFT-CDO-ALLDAYEVENT:FALSE
SUMMARY:Prescription Drug Take Back Day
DESCRIPTION:Unused or expired prescription medications are a public safety issue but proper disposal of unused drugs can save lives and protect the environment.  With that in mind\, the Windsor Police Department\, 200 N. 11th Street will help residents safely dispose of unused and expired prescription medications during National Drug Take Back Day.
X-ALT-DESC;FMTTYPE=text/html:&nbsp\;Unused or expired prescription medications are a public safety issue but proper disposal of unused drugs can save lives and protect the environment.&nbsp\; With that in mind\, the Windsor Police Department\, 200 N. 11th Street will help residents safely dispose of unused and expired prescription medications during National Drug Take Back Day.
LOCATION:Windsor Police Department - 200 N. 11th Street - Windsor
UID:e.2900.1527
SEQUENCE:3
DTSTAMP:20260424T024355Z
URL:https://business.windsorchamber.net/events/details/prescription-drug-take-back-day-1527
END:VEVENT

END:VCALENDAR
