BEGIN:VCALENDAR
VERSION:2.0
PRODID:-//ChamberMaster//Event Calendar 2.0//EN
METHOD:PUBLISH
X-PUBLISHED-TTL:P3D
REFRESH-INTERVAL:P3D
CALSCALE:GREGORIAN
BEGIN:VEVENT
DTSTART:20240303T000000Z
DTEND:20240303T030000Z
X-MICROSOFT-CDO-ALLDAYEVENT:FALSE
SUMMARY:Queen of Hearts Wine Walk
DESCRIPTION:Join the Windsor Area Chamber of Commerce for a regal evening of wine tasting at the "Queen of Hearts Wine Walk!" Wear your finest red attire as we explore a kingdom of delicious wines at our Downtown Businesses. Sip\, savor\, and raise your glass to a night of royal indulgence. Don't miss your chance to taste wines fit for a queen!\n\n\n\nWhen: Saturday March 2nd\, 2024\n\nTime: 5pm-8pm\n\nWhere: Downtown Windsor\n\nTickets $50.00- Includes 10 tasting tickets\, map\, appetizers\, & a swag bag.
X-ALT-DESC;FMTTYPE=text/html:<span style="color:#000000\;"><span style="font-size:16px\;"><span style="font-family:tahoma\;">Join the Windsor Area Chamber of Commerce for a regal evening of wine tasting at the &quot\;Queen of Hearts Wine Walk!&quot\; Wear your finest red attire as we explore a kingdom of delicious wines at our Downtown Businesses. Sip\, savor\, and raise your glass to a night of royal indulgence. Don&#39\;t miss your chance to taste wines fit for a queen!<br />\n<br />\nWhen: Saturday March 2nd\, 2024<br />\nTime: 5pm-8pm<br />\nWhere: Downtown Windsor<br />\nTickets $50.00- Includes 10 tasting tickets\, map\, appetizers\, &amp\; a swag bag.&nbsp\;</span></span></span>
LOCATION:
UID:e.2900.10886
SEQUENCE:3
DTSTAMP:20260420T034359Z
URL:https://business.windsorchamber.net/events/details/queen-of-hearts-wine-walk-10886
END:VEVENT

END:VCALENDAR
