BEGIN:VCALENDAR
VERSION:2.0
PRODID:-//ChamberMaster//Event Calendar 2.0//EN
METHOD:PUBLISH
X-PUBLISHED-TTL:P3D
REFRESH-INTERVAL:P3D
CALSCALE:GREGORIAN
BEGIN:VEVENT
DTSTART;VALUE=DATE:20230624
DTEND;VALUE=DATE:20230625
TRANSP:TRANSPARENT
X-MICROSOFT-CDO-ALLDAYEVENT:TRUE
SUMMARY:Red\, White\, and Brew 10K\, 5K\, and Free Kids Fun Run
DESCRIPTION:Walk\, run\, or ruck your 10K or 5K with run.Windsor for our Independence Day Race\, starting and ending at Windsor Lake and utilizing the Canal Trail. \n\nThe race start and finish area will feature live local music\, donut & pizza trucks\, free beer for finishers 21+\, bouncy houses & face painting with our Kids Fun Run and more!\n\nParticipants receive a custom Red\, White and Brew run.Windsor Hat and will enjoy a post-race brew at the race finish line\, courtesy of Peculier Ales\, as well as a live local band at Boardwalk Park from 8 am - 11 am. The after-after party will be held at the brewery\, with food trucks\, a live band\, awards ceremony and more!\n\nA portion of registration proceeds will go to Windsor Gives\, 501(c)3 non-profit\, to support Imagine Zero of Weld County\, a 501(c)3 non-profit\, a local community led coalition aimed at suicide prevention\, education and awareness.
X-ALT-DESC;FMTTYPE=text/html:<p>Walk\, run\, or ruck your 10K or 5K with run.Windsor for our Independence Day Race\, starting and ending at Windsor Lake and utilizing the Canal Trail.&nbsp\;</p>\n\n<p>The race start and finish area will feature live local music\, donut &amp\; pizza trucks\, free beer for finishers 21+\, bouncy houses &amp\; face painting with our Kids Fun Run and more!</p>\n\n<p>Participants receive a custom Red\, White and Brew run.Windsor Hat and will enjoy a post-race brew at the race finish line\, courtesy of Peculier Ales\, as well as a live local band at Boardwalk Park from 8 am - 11 am. The after-after party will be held at the brewery\, with food trucks\, a live band\, awards ceremony and more!</p>\n\n<p>A portion of registration proceeds will go to Windsor Gives\, 501(c)3 non-profit\, to support Imagine Zero of Weld County\, a 501(c)3 non-profit\, a local community led coalition aimed at suicide prevention\, education and awareness.</p>\n
LOCATION:Boardwalk Park at Windsor Lake
UID:e.2900.7619
SEQUENCE:3
DTSTAMP:20260420T184311Z
URL:https://business.windsorchamber.net/events/details/red-white-and-brew-10k-5k-and-free-kids-fun-run-7619
END:VEVENT

END:VCALENDAR
