BEGIN:VCALENDAR
VERSION:2.0
PRODID:-//ChamberMaster//Event Calendar 2.0//EN
METHOD:PUBLISH
X-PUBLISHED-TTL:P3D
REFRESH-INTERVAL:P3D
CALSCALE:GREGORIAN
BEGIN:VEVENT
DTSTART:20201118T230000Z
DTEND:20201119T003000Z
X-MICROSOFT-CDO-ALLDAYEVENT:FALSE
SUMMARY:RedZone NoCo Grand Opening & Ribbon Cutting
DESCRIPTION:Let's Celebrate RedZone NoCo!\n\n \n\nThe Windsor Area Chamber of Commerce cordially invites you to the Ribbon Cutting & Grand Opening of RedZone NoCo.\n\n \n\nDate: November 18th\n\nTime: 4 to 5:30 PM Ribbon Cutting - 4:30 PM\n\nLocation:500 Main Street\, Windsor Co\n\n \n\nThe event will include appetizers\, light snacks\, and beverages compliments of RedZone NoCo. Although the Open House is a free event\, you are required to register so the Chamber has an accurate count of guests for food and drinks.
X-ALT-DESC;FMTTYPE=text/html:<div style="color: rgb(41\, 75\, 147)\; font-family: Tahoma\, Geneva\, sans-serif\; font-size: 24px\; font-weight: 700\; text-align: center\; white-space: pre-wrap\; background-color: rgb(255\, 255\, 255)\;"><span style="color: rgb(29\, 53\, 103)\; font-family: &quot\;Trebuchet MS&quot\;\, Verdana\, Helvetica\, sans-serif\;">Let&#39\;s Celebrate RedZone NoCo!</span></div>\n\n<div style="color: rgb(41\, 75\, 147)\; font-family: Tahoma\, Geneva\, sans-serif\; font-size: 24px\; font-weight: 700\; text-align: center\; white-space: pre-wrap\; background-color: rgb(255\, 255\, 255)\;">&nbsp\;</div>\n\n<div style="color: rgb(41\, 75\, 147)\; font-family: Tahoma\, Geneva\, sans-serif\; font-size: 24px\; font-weight: 700\; white-space: pre-wrap\; background-color: rgb(255\, 255\, 255)\;"><span style="font-size: 18px\; color: rgb(46\, 47\, 47)\; font-family: &quot\;Trebuchet MS&quot\;\, Verdana\, Helvetica\, sans-serif\; font-weight: normal\;">The Windsor Area Chamber of Commerce cordially invites you to the Ribbon Cutting &amp\; Grand Opening of RedZone NoCo.</span></div>\n\n<div style="color: rgb(41\, 75\, 147)\; font-family: Tahoma\, Geneva\, sans-serif\; font-size: 24px\; font-weight: 700\; text-align: center\; white-space: pre-wrap\; background-color: rgb(255\, 255\, 255)\;">&nbsp\;</div>\n\n<div style="color: rgb(41\, 75\, 147)\; font-family: Tahoma\, Geneva\, sans-serif\; font-size: 24px\; font-weight: 700\; white-space: pre-wrap\; background-color: rgb(255\, 255\, 255)\;"><span style="font-size: 18px\; color: rgb(46\, 47\, 47)\; font-family: &quot\;Trebuchet MS&quot\;\, Verdana\, Helvetica\, sans-serif\;">Date: November 18th</span></div>\n\n<div style="color: rgb(41\, 75\, 147)\; font-family: Tahoma\, Geneva\, sans-serif\; font-size: 24px\; font-weight: 700\; white-space: pre-wrap\; background-color: rgb(255\, 255\, 255)\;"><span style="font-size: 18px\; color: rgb(46\, 47\, 47)\; font-family: &quot\;Trebuchet MS&quot\;\, Verdana\, Helvetica\, sans-serif\;">Time: 4 to 5:30 PM Ribbon Cutting - 4:30 PM</span></div>\n\n<div style="color: rgb(41\, 75\, 147)\; font-family: Tahoma\, Geneva\, sans-serif\; font-size: 24px\; font-weight: 700\; white-space: pre-wrap\; background-color: rgb(255\, 255\, 255)\;"><span style="font-size: 18px\; color: rgb(46\, 47\, 47)\; font-family: &quot\;Trebuchet MS&quot\;\, Verdana\, Helvetica\, sans-serif\;">Location:500 Main Street\, Windsor Co</span></div>\n\n<div style="color: rgb(41\, 75\, 147)\; font-family: Tahoma\, Geneva\, sans-serif\; font-size: 24px\; font-weight: 700\; text-align: center\; white-space: pre-wrap\; background-color: rgb(255\, 255\, 255)\;">&nbsp\;</div>\n\n<div style="color: rgb(41\, 75\, 147)\; font-family: Tahoma\, Geneva\, sans-serif\; font-size: 24px\; font-weight: 700\; white-space: pre-wrap\; background-color: rgb(255\, 255\, 255)\;"><span style="font-size: 18px\; color: rgb(46\, 47\, 47)\; font-family: &quot\;Trebuchet MS&quot\;\, Verdana\, Helvetica\, sans-serif\; font-weight: normal\;">The event will include appetizers\, light snacks\, and beverages compliments of RedZone NoCo. Although the Open House is a free event\, you are required to register so the Chamber has an accurate count of guests for food and drinks.&nbsp\;</span></div>\n
LOCATION:
UID:e.2900.4684
SEQUENCE:3
DTSTAMP:20260422T133606Z
URL:https://business.windsorchamber.net/events/details/redzone-noco-grand-opening-ribbon-cutting-4684
END:VEVENT

END:VCALENDAR
