BEGIN:VCALENDAR
VERSION:2.0
PRODID:-//ChamberMaster//Event Calendar 2.0//EN
METHOD:PUBLISH
X-PUBLISHED-TTL:P3D
REFRESH-INTERVAL:P3D
CALSCALE:GREGORIAN
BEGIN:VEVENT
DTSTART:20170628T180000Z
DTEND:20170628T181000Z
X-MICROSOFT-CDO-ALLDAYEVENT:FALSE
SUMMARY:Ribbon Ctg for The CE Group
DESCRIPTION:The Windsor Chamber will hold a Ribbon Cutting for The CE Group . Great time for you to learn about their business and they about yours. Bring your business cards to pass around.
X-ALT-DESC;FMTTYPE=text/html:The Windsor Chamber will hold a Ribbon Cutting for The CE Group . Great time for you to learn about their business and they about yours. Bring your business cards to pass around.
LOCATION:Althoff Chiropractic - 1040 Walnut
UID:e.2900.69
SEQUENCE:3
DTSTAMP:20260425T004656Z
URL:https://business.windsorchamber.net/events/details/ribbon-ctg-for-the-ce-group-69
END:VEVENT

END:VCALENDAR
