BEGIN:VCALENDAR
VERSION:2.0
PRODID:-//ChamberMaster//Event Calendar 2.0//EN
METHOD:PUBLISH
X-PUBLISHED-TTL:P3D
REFRESH-INTERVAL:P3D
CALSCALE:GREGORIAN
BEGIN:VEVENT
DTSTART:20190718T173000Z
DTEND:20190718T183000Z
X-MICROSOFT-CDO-ALLDAYEVENT:FALSE
SUMMARY:Ribbon Cutting - 55 Resort
DESCRIPTION:Join us for a lunch-time Ribbon Cutting at 55 Resort Apartments in Water Valley.\n\n\n\n55 Resort Apartments at Water Valley is redefining the living experience for independent adults (55 and up). 55 Resort Apartments features a variety of state-of-the-art on-site amenities including a fitness center\, community kitchen and dining area\, theater and multimedia room\, tavern\,  library and more    there's something here for everyone.
X-ALT-DESC;FMTTYPE=text/html:Join us for a lunch-time Ribbon Cutting at 55 Resort Apartments in Water Valley.<br />\n<br />\n55 Resort Apartments at Water Valley is redefining the living experience for independent adults (55 and up). 55 Resort Apartments features a variety of state-of-the-art on-site amenities including a fitness center\, community kitchen and dining area\, theater and multimedia room\, tavern\,&nbsp\; library and more &ndash\;&nbsp\; there&rsquo\;s something here for everyone.&nbsp\;
LOCATION:
UID:e.2900.1645
SEQUENCE:3
DTSTAMP:20260422T183838Z
URL:https://business.windsorchamber.net/events/details/ribbon-cutting-55-resort-1645
END:VEVENT

END:VCALENDAR
