BEGIN:VCALENDAR
VERSION:2.0
PRODID:-//ChamberMaster//Event Calendar 2.0//EN
METHOD:PUBLISH
X-PUBLISHED-TTL:P3D
REFRESH-INTERVAL:P3D
CALSCALE:GREGORIAN
BEGIN:VEVENT
DTSTART:20190626T230000Z
DTEND:20190627T000000Z
X-MICROSOFT-CDO-ALLDAYEVENT:FALSE
SUMMARY:Ribbon Cutting - American Legend Homes
DESCRIPTION:Please join us for a ribbon cutting for American Legend Homes one of our newest members!  Great time to hear about Rain Dance Subdivision and see the different homes that American Legend Homes are building.
X-ALT-DESC;FMTTYPE=text/html:Please&nbsp\;join us&nbsp\;for a ribbon cutting for American Legend Homes one of our newest members!&nbsp\; Great time to hear about Rain Dance Subdivision and see the different homes that American Legend Homes are building.
LOCATION:2128 Glean Court - go over covered bridge off of Crossroads. Turn first left then left again on Glean Court. Look for all the flags.
UID:e.2900.1589
SEQUENCE:3
DTSTAMP:20260423T154957Z
URL:https://business.windsorchamber.net/events/details/ribbon-cutting-american-legend-homes-1589
END:VEVENT

END:VCALENDAR
