BEGIN:VCALENDAR
VERSION:2.0
PRODID:-//ChamberMaster//Event Calendar 2.0//EN
METHOD:PUBLISH
X-PUBLISHED-TTL:P3D
REFRESH-INTERVAL:P3D
CALSCALE:GREGORIAN
BEGIN:VEVENT
DTSTART:20180914T000000Z
DTEND:20180914T010000Z
X-MICROSOFT-CDO-ALLDAYEVENT:FALSE
SUMMARY:Ribbon Cutting at Windsor High School
DESCRIPTION:Please attend the ribbon Cuting for Windsor High School. You will be able to see the remodeling of the school.
X-ALT-DESC;FMTTYPE=text/html:Please attend the ribbon Cuting for Windsor High School. You will be able to see the remodeling of the school.
LOCATION:Windsor High School
UID:e.2900.1511
SEQUENCE:3
DTSTAMP:20260424T041056Z
URL:https://business.windsorchamber.net/events/details/ribbon-cutting-at-windsor-high-school-1511
END:VEVENT

END:VCALENDAR
