BEGIN:VCALENDAR
VERSION:2.0
PRODID:-//ChamberMaster//Event Calendar 2.0//EN
METHOD:PUBLISH
X-PUBLISHED-TTL:P3D
REFRESH-INTERVAL:P3D
CALSCALE:GREGORIAN
BEGIN:VEVENT
DTSTART:20190806T150000Z
DTEND:20190806T160000Z
X-MICROSOFT-CDO-ALLDAYEVENT:FALSE
SUMMARY:Ribbon Cutting - Colorado Early Colleges
DESCRIPTION:Colorado Early Colleges is opening a Middle School campus in Windsor this fall. Join us for a fun\, morning Ribbon Cutting at 9am.\nColorado Early Colleges "CEC" is a network of tuition-free public\, charter schools across the state of Colorado.  Four high schools and one middle school provide CEC students with the opportunity to take college courses while in high school.\n\nCEC is authorized by Charter School Institute\, a Colorado state-wide charter school organization.   (Website: www.csi.state.co.us)\n\nAs state designated Colorado Early College high schools\, Colorado Early Colleges' curriculum is designed to give students the opportunity to concurrently earn\, upon graduation\, a high school diploma and a post-secondary credential within four years. A post-secondary credential includes an associate degree\, a career and technical education certificate or at least 60 college credits.\nLearn more here.
X-ALT-DESC;FMTTYPE=text/html:Colorado Early Colleges is opening a Middle School campus in Windsor this fall. Join us for a fun\, morning Ribbon Cutting at 9am.\n<p>Colorado Early Colleges &ldquo\;CEC&rdquo\; is a network of tuition-free public\, charter schools across the state of Colorado.&nbsp\; Four high schools and one middle school provide CEC students with the opportunity to take college courses while in high school.</p>\n\n<p>CEC is authorized by Charter School Institute\, a Colorado state-wide charter school organization.&nbsp\;&nbsp\; (Website:&nbsp\;<a href="http://www.csi.state.co.us/" rel="noopener noreferrer" target="_blank">www.csi.state.co.us</a>)</p>\n\n<p>As state designated Colorado Early College high schools\, Colorado Early Colleges&rsquo\; curriculum is designed to give students the opportunity to concurrently earn\, upon graduation\, a high school diploma and a post-secondary credential within four years. A post-secondary credential includes an associate degree\, a career and technical education certificate or at least 60 college credits.</p>\nLearn more <a href="https://windsorms.coloradoearlycolleges.org">here</a>.<br />\n<br />\n<br />\n&nbsp\;
LOCATION:
UID:e.2900.1928
SEQUENCE:3
DTSTAMP:20260423T125429Z
URL:https://business.windsorchamber.net/events/details/ribbon-cutting-colorado-early-colleges-1928
END:VEVENT

END:VCALENDAR
