BEGIN:VCALENDAR
VERSION:2.0
PRODID:-//ChamberMaster//Event Calendar 2.0//EN
METHOD:PUBLISH
X-PUBLISHED-TTL:P3D
REFRESH-INTERVAL:P3D
CALSCALE:GREGORIAN
BEGIN:VEVENT
DTSTART:20260428T220000Z
DTEND:20260428T233000Z
X-MICROSOFT-CDO-ALLDAYEVENT:FALSE
SUMMARY:Ribbon Cutting - Dream Vacations by Melissa
DESCRIPTION:Let's Celebrate Dream Vacations by Melissa!\n\nThe Windsor Area Chamber of Commerce cordially invites you to the Ribbon Cutting for Dream Vacations by Melissa helping you plan unforgettable getaways and dream vacations with ease and expertise!\n\nCome celebrate one of our newest members and connect with the community as we continue to grow together  \n\nDate: Tuesday\, April 28th\, 2026\n\nTime: 4:00 PM to 5:30 PM | Ribbon Cutting   4:30 PM\n\nLocation: Wing Shack Windsor\n\n1294 Main St. Windsor\, CO 80550
X-ALT-DESC;FMTTYPE=text/html:<p data-end="122" data-start="73"><strong data-end="120" data-start="73">Let&rsquo\;s Celebrate Dream Vacations by Melissa!</strong></p>\n\n<p data-end="322" data-start="124">The Windsor Area Chamber of Commerce cordially invites you to the Ribbon Cutting for Dream Vacations by Melissa&mdash\;helping you plan unforgettable getaways and dream vacations with ease and expertise!</p>\n\n<p data-end="432" data-start="324">Come celebrate one of our newest members and connect with the community as we continue to grow together &#128155\;</p>\n\n<p data-end="598" data-start="434"><strong data-end="443" data-start="434">Date:</strong> Tuesday\, April 28th\, 2026<br data-end="472" data-start="469" />\n<strong data-end="481" data-start="472">Time:</strong> 4:00 PM to 5:30 PM | Ribbon Cutting &ndash\; 4:30 PM<br data-end="530" data-start="527" />\n<strong data-end="543" data-start="530">Location:</strong> Wing Shack Windsor<br data-end="565" data-start="562" />\n1294 Main St. Windsor\, CO 80550</p>\n
LOCATION:Wing Shack Windsor 1294 Main St. Windsor\, CO 80550
UID:e.2900.16128
SEQUENCE:3
DTSTAMP:20260422T074656Z
URL:https://business.windsorchamber.net/events/details/ribbon-cutting-dream-vacations-by-melissa-16128
END:VEVENT

END:VCALENDAR
