BEGIN:VCALENDAR
VERSION:2.0
PRODID:-//ChamberMaster//Event Calendar 2.0//EN
METHOD:PUBLISH
X-PUBLISHED-TTL:P3D
REFRESH-INTERVAL:P3D
CALSCALE:GREGORIAN
BEGIN:VEVENT
DTSTART:20190620T210000Z
DTEND:20190620T213000Z
X-MICROSOFT-CDO-ALLDAYEVENT:FALSE
SUMMARY:Ribbon Cutting - Elevations Real Estate
DESCRIPTION:Chimney Park Townhomes! Meet the team at the new Elevations Real Estate office in Windsor. Join us for the 3pm Ribbon Cutting and stay for the Open House until 5pm.\n\n\n\nBRAND NEW TOWNHOMES: Easy living near old town Windsor! Two-story townhomes w/ 3 & 4 bedroom floorplans\, 2 car garages\, patios & full 9' unfinished basements. High quality STANDARD finishes: SS appliances\, A/C\, luxury waterproof flooring\, granite\, tile floors & showers. You choose designer upgrade packages in early phase of build. Walk to East Pointe Center (Dougs Diner/Kum&Go)\, Pelican Lakes Golf\, Chimney Park Pool/ball field.
X-ALT-DESC;FMTTYPE=text/html:Chimney Park Townhomes! Meet the team at the new Elevations Real Estate office in Windsor. Join us for the 3pm Ribbon Cutting and stay for the Open House until 5pm.<br />\n<br />\nBRAND NEW TOWNHOMES: Easy living near old town Windsor! Two-story townhomes w/ 3 &amp\; 4 bedroom floorplans\, 2 car garages\, patios &amp\; full 9&#39\; unfinished basements. High quality STANDARD finishes: SS appliances\, A/C\, luxury waterproof flooring\, granite\, tile floors &amp\; showers. You choose designer upgrade packages in early phase of build. Walk to East Pointe Center (Dougs Diner/Kum&amp\;Go)\, Pelican Lakes Golf\, Chimney Park Pool/ball field.<br />\n<br />\n&nbsp\;
LOCATION:
UID:e.2900.1638
SEQUENCE:3
DTSTAMP:20260422T225151Z
URL:https://business.windsorchamber.net/events/details/ribbon-cutting-elevations-real-estate-1638
END:VEVENT

END:VCALENDAR
