BEGIN:VCALENDAR
VERSION:2.0
PRODID:-//ChamberMaster//Event Calendar 2.0//EN
METHOD:PUBLISH
X-PUBLISHED-TTL:P3D
REFRESH-INTERVAL:P3D
CALSCALE:GREGORIAN
BEGIN:VEVENT
DTSTART:20170517T160000Z
DTEND:20170517T161500Z
X-MICROSOFT-CDO-ALLDAYEVENT:FALSE
SUMMARY:RIBBON CUTTING FOR BRAIN BALANCE
DESCRIPTION:The Windsor Chamber will hold a RIBBON CUTTING  for BRAIN BALANCE\, one of our newest members.  If did not get to attend their "Networking at Noon" plan to attend this fascinating business.
X-ALT-DESC;FMTTYPE=text/html:The Windsor Chamber will hold a RIBBON CUTTING&nbsp\; for BRAIN BALANCE\, one of our newest members.&nbsp\; If did not get to attend their &quot\;Networking at Noon&quot\; plan to attend this fascinating business.
LOCATION:Brain Balance - 1555 Main St. Suite - A-6 ( Safeway Center)
UID:e.2900.18
SEQUENCE:3
DTSTAMP:20260425T020537Z
URL:https://business.windsorchamber.net/events/details/ribbon-cutting-for-brain-balance-18
END:VEVENT

END:VCALENDAR
