BEGIN:VCALENDAR
VERSION:2.0
PRODID:-//ChamberMaster//Event Calendar 2.0//EN
METHOD:PUBLISH
X-PUBLISHED-TTL:P3D
REFRESH-INTERVAL:P3D
CALSCALE:GREGORIAN
BEGIN:VEVENT
DTSTART:20170823T160000Z
DTEND:20170823T161500Z
X-MICROSOFT-CDO-ALLDAYEVENT:FALSE
SUMMARY:Ribbon Cutting for: COLORADO MAJESTIC LANDSCAPE
DESCRIPTION:Please plan to attend a ribbon cutting for Colorado Majestic Landscape.\n\nGreat time for you to find out all about their business and you can tell them about yours.
X-ALT-DESC;FMTTYPE=text/html:Please plan to attend a ribbon cutting for Colorado Majestic Landscape.<br />\nGreat time for you to find out all about their business and you can tell them about yours.
LOCATION:Windsor Chamber office back parking lot - 421 Main Street
UID:e.2900.317
SEQUENCE:3
DTSTAMP:20260424T222803Z
URL:https://business.windsorchamber.net/events/details/ribbon-cutting-for-colorado-majestic-landscape-317
END:VEVENT

END:VCALENDAR
