BEGIN:VCALENDAR
VERSION:2.0
PRODID:-//ChamberMaster//Event Calendar 2.0//EN
METHOD:PUBLISH
X-PUBLISHED-TTL:P3D
REFRESH-INTERVAL:P3D
CALSCALE:GREGORIAN
BEGIN:VEVENT
DTSTART:20191001T150000Z
DTEND:20191001T160000Z
X-MICROSOFT-CDO-ALLDAYEVENT:FALSE
SUMMARY:Ribbon Cutting: Fusion Fit Windsor
DESCRIPTION:FusionFIT is a locally owned group fitness studio in Windsor\, Colorado offering strength\, cardio\, kickboxing\, HIIT and TRX classes for all levels of fitness! They are dedicated to providing our members with fun\, results driven workouts in a motivating and supportive environment. \n\n\n\nFusionFit instructors custom plan each experience so you'll never repeat the same class twice! They provide a welcoming space for you and your family to focus on your fitness goals\; complete with kids daycare\, family and youth fitness classes. \n\n\n\n The FusionFit studio is also home to run.Windsor\, a local running group! Take advantage of our one free week trial and check out their amazing membership options here.
X-ALT-DESC;FMTTYPE=text/html:FusionFIT is a locally owned group fitness studio in Windsor\, Colorado offering strength\, cardio\, kickboxing\, HIIT and TRX classes for all levels of fitness! They are dedicated to providing our members with fun\, results driven workouts in a motivating and supportive environment.&nbsp\;<br />\n<br />\nFusionFit instructors custom plan each experience so you&rsquo\;ll never repeat the same class twice! They provide a welcoming space for you and your family to focus on your fitness goals\; complete with kids daycare\,&nbsp\;<a href="https://fusionfitwindsor.com/programs/">family and youth fitness</a>&nbsp\;classes.&nbsp\;<br />\n<br />\n&#8203\;The FusionFit studio is also home to&nbsp\;<a href="http://www.runwindsorco.com/">run.Windsor</a>\, a local running group! Take advantage of our one free week trial and check out their amazing membership options&nbsp\;<a href="https://fusionfitwindsor.com/membership/">here.</a>
LOCATION:
UID:e.2900.2466
SEQUENCE:3
DTSTAMP:20260423T103105Z
URL:https://business.windsorchamber.net/events/details/ribbon-cutting-fusion-fit-windsor-2466
END:VEVENT

END:VCALENDAR
