BEGIN:VCALENDAR
VERSION:2.0
PRODID:-//ChamberMaster//Event Calendar 2.0//EN
METHOD:PUBLISH
X-PUBLISHED-TTL:P3D
REFRESH-INTERVAL:P3D
CALSCALE:GREGORIAN
BEGIN:VEVENT
DTSTART:20190606T183000Z
DTEND:20190606T190000Z
X-MICROSOFT-CDO-ALLDAYEVENT:FALSE
SUMMARY:Ribbon Cutting & Open House - Sellstate Rogue Realty
DESCRIPTION:Ribbong Cutting at 12:30 PM. Afterwards\, join Sellstate Rogue Realty for their Grand Opening of their office! Celebrate with food\, music\, and an open house.
X-ALT-DESC;FMTTYPE=text/html:Ribbong Cutting at 12:30 PM. Afterwards\, join Sellstate Rogue Realty for their Grand Opening of their office! Celebrate with food\, music\, and an open house.
LOCATION:512 C Main Street Windsor\, CO
UID:e.2900.1631
SEQUENCE:3
DTSTAMP:20260423T165253Z
URL:https://business.windsorchamber.net/events/details/ribbon-cutting-open-house-sellstate-rogue-realty-1631
END:VEVENT

END:VCALENDAR
