BEGIN:VCALENDAR
VERSION:2.0
PRODID:-//ChamberMaster//Event Calendar 2.0//EN
METHOD:PUBLISH
X-PUBLISHED-TTL:P3D
REFRESH-INTERVAL:P3D
CALSCALE:GREGORIAN
BEGIN:VEVENT
DTSTART:20190607T190000Z
DTEND:20190607T200000Z
X-MICROSOFT-CDO-ALLDAYEVENT:FALSE
SUMMARY:Ribbon Cutting - Windmill Homes
DESCRIPTION:Let's welcome Windmill Homes to Windsor. Join us and see their latest model home ready for your to tour!
X-ALT-DESC;FMTTYPE=text/html:Let&#39\;s welcome Windmill Homes to Windsor. Join us and see their latest model home ready for your to tour!
LOCATION:Located in the Greenspire Community.
UID:e.2900.1630
SEQUENCE:3
DTSTAMP:20260423T143219Z
URL:https://business.windsorchamber.net/events/details/ribbon-cutting-windmill-homes-1630
END:VEVENT

END:VCALENDAR
