BEGIN:VCALENDAR
VERSION:2.0
PRODID:-//ChamberMaster//Event Calendar 2.0//EN
METHOD:PUBLISH
X-PUBLISHED-TTL:P3D
REFRESH-INTERVAL:P3D
CALSCALE:GREGORIAN
BEGIN:VEVENT
DTSTART:20190607T170000Z
DTEND:20190607T180000Z
X-MICROSOFT-CDO-ALLDAYEVENT:FALSE
SUMMARY:Ribbon Cutting - Windsor Lake Coffee
DESCRIPTION:Windsor Lake Coffee is proud to host a ribbon cutting. Come in and meet the new owners while enjoying awesome coffee\, desserts\, pastries and lunch!
X-ALT-DESC;FMTTYPE=text/html:Windsor Lake Coffee is proud to host a ribbon cutting. Come in and meet the new owners while enjoying awesome coffee\, desserts\, pastries and lunch!
LOCATION:430 Main Street Corner of 5th Street & Main
UID:e.2900.1623
SEQUENCE:3
DTSTAMP:20260423T154821Z
URL:https://business.windsorchamber.net/events/details/ribbon-cutting-windsor-lake-coffee-1623
END:VEVENT

END:VCALENDAR
