BEGIN:VCALENDAR
VERSION:2.0
PRODID:-//ChamberMaster//Event Calendar 2.0//EN
METHOD:PUBLISH
X-PUBLISHED-TTL:P3D
REFRESH-INTERVAL:P3D
CALSCALE:GREGORIAN
BEGIN:VEVENT
DTSTART:20170822T173000Z
DTEND:20170822T190000Z
X-MICROSOFT-CDO-ALLDAYEVENT:FALSE
SUMMARY:Seminar: I DON'T HAVE TIME FOR TIME MANAGEMENT
DESCRIPTION:During this Seminar...\n\nIf you choose to make time\, you'll larn:\n\nHow to restructure your day to get more done\n\nTips on new ways of looking at your task list\n\nThat time mangement isn't finding moe time\, it is about changing your behavior.\n\nCourtney Berg is a University of Northern Colorado alumni and celebrating 10 years with CourtSide Consulting.  Courtney is a certified SPHR\, Senior Professional in Human Resources\, and has been nominated for Business of the Year by the Denver Business Journal.  She has beenpublished and quoted as a leading HR thinker in various magazines.
X-ALT-DESC;FMTTYPE=text/html:During this Seminar...<br />\nIf you choose to make time\, you&#39\;ll larn:<br />\nHow to restructure your day to get more done<br />\nTips on new ways of looking at your task list<br />\nThat time mangement isn&#39\;t finding moe time\, it is about changing your behavior.<br />\nCourtney Berg is a University of Northern Colorado alumni and celebrating 10 years with CourtSide Consulting.&nbsp\; Courtney is a certified SPHR\, Senior Professional in Human Resources\, and has been nominated for Business of the Year by the Denver Business Journal.&nbsp\; She has beenpublished and quoted as a leading HR thinker in various magazines.
LOCATION:Windsor-Severance Library - 720 3rd Street - Windsor\, CO
UID:e.2900.314
SEQUENCE:3
DTSTAMP:20260424T220843Z
URL:https://business.windsorchamber.net/events/details/seminar-i-don-t-have-time-for-time-management-314
END:VEVENT

END:VCALENDAR
