BEGIN:VCALENDAR
VERSION:2.0
PRODID:-//ChamberMaster//Event Calendar 2.0//EN
METHOD:PUBLISH
X-PUBLISHED-TTL:P3D
REFRESH-INTERVAL:P3D
CALSCALE:GREGORIAN
BEGIN:VEVENT
DTSTART:20190422T150000Z
DTEND:20190422T230000Z
X-MICROSOFT-CDO-ALLDAYEVENT:FALSE
SUMMARY:Shredding Event by Points West Comm. Bank
DESCRIPTION:To celebrate Earth Day\, Points West Community Bank is hosting a Paper Shredding Event .  During normal participating branch hours all are allowed to bring in ONE  box of paper to shred for FREE.
X-ALT-DESC;FMTTYPE=text/html:To celebrate Earth Day\, Points West Community Bank is hosting a Paper Shredding Event .&nbsp\; During normal participating branch hours all are allowed to bring in&nbsp\;ONE &nbsp\;box of paper to shred for FREE.
LOCATION:Participating Location include Water Valley \, 355 Eastman Park Dr. Windsor Good Samaritan Bank \, 805 Compassion Dr. Windsor\, and 1291 Main St. \, Windsor.
UID:e.2900.1588
SEQUENCE:3
DTSTAMP:20260423T180056Z
URL:https://business.windsorchamber.net/events/details/shredding-event-by-points-west-comm-bank-1588
END:VEVENT

END:VCALENDAR
