BEGIN:VCALENDAR
VERSION:2.0
PRODID:-//ChamberMaster//Event Calendar 2.0//EN
METHOD:PUBLISH
X-PUBLISHED-TTL:P3D
REFRESH-INTERVAL:P3D
CALSCALE:GREGORIAN
BEGIN:VEVENT
DTSTART:20210526T220000Z
DTEND:20210527T003000Z
X-MICROSOFT-CDO-ALLDAYEVENT:FALSE
SUMMARY:Sip & Shop ~ Coast to Coast Styles
DESCRIPTION:Sip & Shop ~ Coast to Coast Styles\n\nThe Windsor Area Chamber of Commerce cordially invites you to a Sip & Shop hosted by Coast to Coast Styles.\n\n \n\nDate: May 26th \n\nTime: 4:00 PM to 6:00 PM\n\nLocation: 821 Main Street\, Windsor Co
X-ALT-DESC;FMTTYPE=text/html:<div style="color: rgb(207\, 143\, 18)\; font-family: Tahoma\, Geneva\, sans-serif\; font-size: 24px\; font-weight: 700\; text-align: center\; white-space: pre-wrap\; background-color: rgb(255\, 255\, 255)\;"><span style="font-family: &quot\;Trebuchet MS&quot\;\, Verdana\, Helvetica\, sans-serif\; font-size: 28px\;">Sip &amp\; Shop ~ Coast to Coast Styles</span></div>\n\n<div style="color: rgb(207\, 143\, 18)\; font-family: Tahoma\, Geneva\, sans-serif\; font-size: 24px\; font-weight: 700\; white-space: pre-wrap\; background-color: rgb(255\, 255\, 255)\;"><span style="font-size: 18px\; color: rgb(0\, 0\, 0)\; font-weight: normal\; font-family: &quot\;Trebuchet MS&quot\;\, Verdana\, Helvetica\, sans-serif\;">The Windsor Area Chamber of Commerce cordially invites you to a Sip &amp\; Shop hosted by Coast to Coast Styles.</span></div>\n\n<div style="color: rgb(207\, 143\, 18)\; font-family: Tahoma\, Geneva\, sans-serif\; font-size: 24px\; font-weight: 700\; white-space: pre-wrap\; background-color: rgb(255\, 255\, 255)\;">&nbsp\;</div>\n\n<div style="color: rgb(207\, 143\, 18)\; font-family: Tahoma\, Geneva\, sans-serif\; font-size: 24px\; font-weight: 700\; white-space: pre-wrap\; background-color: rgb(255\, 255\, 255)\;"><span style="font-size: 18px\; color: rgb(0\, 0\, 0)\; font-family: &quot\;Trebuchet MS&quot\;\, Verdana\, Helvetica\, sans-serif\;">Date:</span><span style="font-size: 18px\; color: rgb(0\, 0\, 0)\; font-family: &quot\;Trebuchet MS&quot\;\, Verdana\, Helvetica\, sans-serif\; font-weight: normal\;"> May 26th </span></div>\n\n<div style="color: rgb(207\, 143\, 18)\; font-family: Tahoma\, Geneva\, sans-serif\; font-size: 24px\; font-weight: 700\; white-space: pre-wrap\; background-color: rgb(255\, 255\, 255)\;"><span style="font-size: 18px\; color: rgb(0\, 0\, 0)\; font-family: &quot\;Trebuchet MS&quot\;\, Verdana\, Helvetica\, sans-serif\;">Time:</span><span style="font-size: 18px\; color: rgb(0\, 0\, 0)\; font-family: &quot\;Trebuchet MS&quot\;\, Verdana\, Helvetica\, sans-serif\; font-weight: normal\;"> 4:00 PM to 6:00 PM</span></div>\n\n<div style="color: rgb(207\, 143\, 18)\; font-family: Tahoma\, Geneva\, sans-serif\; font-size: 24px\; font-weight: 700\; white-space: pre-wrap\; background-color: rgb(255\, 255\, 255)\;"><span style="font-size: 18px\; color: rgb(0\, 0\, 0)\; font-family: &quot\;Trebuchet MS&quot\;\, Verdana\, Helvetica\, sans-serif\;">Location: </span><span style="font-size: 18px\; color: rgb(0\, 0\, 0)\; font-family: &quot\;Trebuchet MS&quot\;\, Verdana\, Helvetica\, sans-serif\; font-weight: normal\;">821 Main Street</span><span style="font-size: 18px\; color: rgb(0\, 0\, 0)\; font-family: &quot\;Trebuchet MS&quot\;\, Verdana\, Helvetica\, sans-serif\;">\, </span><span style="font-size: 18px\; color: rgb(0\, 0\, 0)\; font-family: &quot\;Trebuchet MS&quot\;\, Verdana\, Helvetica\, sans-serif\; font-weight: normal\;">Windsor Co </span></div>\n
LOCATION:
UID:e.2900.4871
SEQUENCE:3
DTSTAMP:20260422T092311Z
URL:https://business.windsorchamber.net/events/details/sip-shop-coast-to-coast-styles-4871
END:VEVENT

END:VCALENDAR
