BEGIN:VCALENDAR
VERSION:2.0
PRODID:-//ChamberMaster//Event Calendar 2.0//EN
METHOD:PUBLISH
X-PUBLISHED-TTL:P3D
REFRESH-INTERVAL:P3D
CALSCALE:GREGORIAN
BEGIN:VEVENT
DTSTART:20201027T233000Z
DTEND:20201028T023000Z
X-MICROSOFT-CDO-ALLDAYEVENT:FALSE
SUMMARY:Sip & Shop ~ FusionFIT
DESCRIPTION:Grab your holiday shopping list\, be sure to check it twice\, for all of your friends and family who have been naughty or nice!\n\n \n\nCome enjoy some great products from local pop-up shop businesses and have a drink or two.\n\nBring a friend\, have some fun\, and let us get to know you!
X-ALT-DESC;FMTTYPE=text/html:<div style="color: rgb(46\, 47\, 47)\; font-family: Verdana\, Geneva\, sans-serif\; font-size: 16px\; white-space: pre-wrap\; background-color: rgb(255\, 255\, 255)\;"><span style="font-size: 20px\; color: rgb(51\, 51\, 51)\; font-family: &quot\;Trebuchet MS&quot\;\, Verdana\, Helvetica\, sans-serif\;">Grab your holiday shopping list\, be sure to check it twice\, for all of your friends and family who have been naughty or nice!</span></div>\n\n<div style="color: rgb(46\, 47\, 47)\; font-family: Verdana\, Geneva\, sans-serif\; font-size: 16px\; white-space: pre-wrap\; background-color: rgb(255\, 255\, 255)\;">&nbsp\;</div>\n\n<div style="color: rgb(46\, 47\, 47)\; font-family: Verdana\, Geneva\, sans-serif\; font-size: 16px\; white-space: pre-wrap\; background-color: rgb(255\, 255\, 255)\;"><span style="font-size: 20px\; color: rgb(51\, 51\, 51)\; font-family: &quot\;Trebuchet MS&quot\;\, Verdana\, Helvetica\, sans-serif\;">Come enjoy some great products from local pop-up shop businesses and have a drink or two.</span></div>\n\n<div style="color: rgb(46\, 47\, 47)\; font-family: Verdana\, Geneva\, sans-serif\; font-size: 16px\; white-space: pre-wrap\; background-color: rgb(255\, 255\, 255)\;"><span style="font-family: &quot\;Trebuchet MS&quot\;\, Verdana\, Helvetica\, sans-serif\; font-size: 20px\;">Bring a friend\, have some fun\, and let us get to know you!</span></div>\n
LOCATION:FusionFIT\, 655 Academy Ct\, Windsor Co 80550
UID:e.2900.4498
SEQUENCE:3
DTSTAMP:20260422T172250Z
URL:https://business.windsorchamber.net/events/details/sip-shop-fusionfit-4498
END:VEVENT

END:VCALENDAR
