BEGIN:VCALENDAR
VERSION:2.0
PRODID:-//ChamberMaster//Event Calendar 2.0//EN
METHOD:PUBLISH
X-PUBLISHED-TTL:P3D
REFRESH-INTERVAL:P3D
CALSCALE:GREGORIAN
BEGIN:VEVENT
DTSTART:20210603T220000Z
DTEND:20210604T003000Z
X-MICROSOFT-CDO-ALLDAYEVENT:FALSE
SUMMARY:Sip & Shop Hannah Rachel Boutique
DESCRIPTION:Sip & Shop Hannah Rachel Boutique\n\n \n\nThe Windsor Area Chamber of Commerce cordially invites you to a Sip & Shop hosted by Hannah Rachel Boutique.\n\n \n\nDate: June 3rd\n\nTime: 4:00 PM to 6:30 PM\n\nLocation: 423 Main Street\, Windsor Co
X-ALT-DESC;FMTTYPE=text/html:<br />\n<span style="font-size:22px\;"><span style="font-family:comic sans ms\;"><strong>Sip &amp\; Shop Hannah Rachel Boutique</strong></span></span><br />\n&nbsp\;<br />\n<span style="color:black\;"><span style="font-family:trebuchet ms\,sans-serif\;"><span style="font-size:13.5pt\;">The Windsor Area Chamber of Commerce cordially invites you to a Sip &amp\; Shop hosted by Hannah Rachel Boutique.</span></span></span><br />\n&nbsp\;<br />\n<strong><span style="color:black\;"><span style="font-family:trebuchet ms\,sans-serif\;"><span style="font-size:13.5pt\;">Date:</span></span></span></strong><span style="color:black\;"><span style="font-family:trebuchet ms\,sans-serif\;"><span style="font-size:13.5pt\;"> June 3rd</span></span></span><br />\n<strong><span style="color:black\;"><span style="font-family:trebuchet ms\,sans-serif\;"><span style="font-size:13.5pt\;">Time:</span></span></span></strong><span style="color:black\;"><span style="font-family:trebuchet ms\,sans-serif\;"><span style="font-size:13.5pt\;">&nbsp\;4:00 PM to 6:30 PM</span></span></span><br />\n<strong><span style="color:black\;"><span style="font-family:trebuchet ms\,sans-serif\;"><span style="font-size:13.5pt\;">Location: </span></span></span></strong><span style="color:black\;"><span style="font-family:trebuchet ms\,sans-serif\;"><span style="font-size:13.5pt\;">423 Main Street<strong>\, </strong>Windsor Co </span></span></span><br />\n&nbsp\;
LOCATION:
UID:e.2900.4878
SEQUENCE:3
DTSTAMP:20260422T063825Z
URL:https://business.windsorchamber.net/events/details/sip-shop-hannah-rachel-boutique-4878
END:VEVENT

END:VCALENDAR
