BEGIN:VCALENDAR
VERSION:2.0
PRODID:-//ChamberMaster//Event Calendar 2.0//EN
METHOD:PUBLISH
X-PUBLISHED-TTL:P3D
REFRESH-INTERVAL:P3D
CALSCALE:GREGORIAN
BEGIN:VEVENT
DTSTART:20210629T220000Z
DTEND:20210630T003000Z
X-MICROSOFT-CDO-ALLDAYEVENT:FALSE
SUMMARY:Sip & Shop ~ Memory Lane Antiques
DESCRIPTION:Sip & Shop ~ Memory Lane Antiques\n\nThe Windsor Area Chamber of Commerce cordially invites you to a Sip & Shop hosted by Memory Lane Antiques.\n\n \n\nDate: June 29th\n\nTime: 4:00 PM to 6:30 PM\n\nLocation: 426 Main Street\, Windsor Co
X-ALT-DESC;FMTTYPE=text/html:<div style="box-sizing: border-box\; outline: 0px\; color: rgb(207\, 143\, 18)\; font-family: Tahoma\, Geneva\, sans-serif\; font-size: 24px\; font-weight: 700\; text-align: center\; white-space: pre-wrap\; background-color: rgb(255\, 255\, 255)\;"><span style="box-sizing: border-box\; outline: 0px\; font-family: &quot\;Trebuchet MS&quot\;\, Verdana\, Helvetica\, sans-serif\; font-size: 28px\;">Sip &amp\; Shop ~ Memory Lane Antiques</span></div>\n\n<div style="box-sizing: border-box\; color: rgb(207\, 143\, 18)\; font-family: Tahoma\, Geneva\, sans-serif\; font-size: 24px\; font-weight: 700\; white-space: pre-wrap\; background-color: rgb(255\, 255\, 255)\;"><span style="box-sizing: border-box\; font-size: 18px\; color: rgb(0\, 0\, 0)\; font-weight: normal\; font-family: &quot\;Trebuchet MS&quot\;\, Verdana\, Helvetica\, sans-serif\;">The Windsor Area Chamber of Commerce cordially invites you to a Sip &amp\; Shop hosted by Memory Lane Antiques.</span></div>\n\n<div style="box-sizing: border-box\; color: rgb(207\, 143\, 18)\; font-family: Tahoma\, Geneva\, sans-serif\; font-size: 24px\; font-weight: 700\; white-space: pre-wrap\; background-color: rgb(255\, 255\, 255)\;">&nbsp\;</div>\n\n<div style="box-sizing: border-box\; color: rgb(207\, 143\, 18)\; font-family: Tahoma\, Geneva\, sans-serif\; font-size: 24px\; font-weight: 700\; white-space: pre-wrap\; background-color: rgb(255\, 255\, 255)\;"><span style="box-sizing: border-box\; font-size: 18px\; color: rgb(0\, 0\, 0)\; font-family: &quot\;Trebuchet MS&quot\;\, Verdana\, Helvetica\, sans-serif\;">Date:</span><span style="box-sizing: border-box\; font-size: 18px\; color: rgb(0\, 0\, 0)\; font-family: &quot\;Trebuchet MS&quot\;\, Verdana\, Helvetica\, sans-serif\; font-weight: normal\;"> June 29th</span></div>\n\n<div style="box-sizing: border-box\; color: rgb(207\, 143\, 18)\; font-family: Tahoma\, Geneva\, sans-serif\; font-size: 24px\; font-weight: 700\; white-space: pre-wrap\; background-color: rgb(255\, 255\, 255)\;"><span style="box-sizing: border-box\; font-size: 18px\; color: rgb(0\, 0\, 0)\; font-family: &quot\;Trebuchet MS&quot\;\, Verdana\, Helvetica\, sans-serif\;">Time:</span><span style="box-sizing: border-box\; font-size: 18px\; color: rgb(0\, 0\, 0)\; font-family: &quot\;Trebuchet MS&quot\;\, Verdana\, Helvetica\, sans-serif\; font-weight: normal\;"> 4:00 PM to 6:30 PM</span></div>\n\n<div style="box-sizing: border-box\; color: rgb(207\, 143\, 18)\; font-family: Tahoma\, Geneva\, sans-serif\; font-size: 24px\; font-weight: 700\; white-space: pre-wrap\; background-color: rgb(255\, 255\, 255)\;"><span style="box-sizing: border-box\; font-size: 18px\; color: rgb(0\, 0\, 0)\; font-family: &quot\;Trebuchet MS&quot\;\, Verdana\, Helvetica\, sans-serif\;">Location: 426 Main Street\, Windsor Co</span></div>\n
LOCATION:
UID:e.2900.4882
SEQUENCE:3
DTSTAMP:20260422T063025Z
URL:https://business.windsorchamber.net/events/details/sip-shop-memory-lane-antiques-4882
END:VEVENT

END:VCALENDAR
