BEGIN:VCALENDAR
VERSION:2.0
PRODID:-//ChamberMaster//Event Calendar 2.0//EN
METHOD:PUBLISH
X-PUBLISHED-TTL:P3D
REFRESH-INTERVAL:P3D
CALSCALE:GREGORIAN
BEGIN:VEVENT
DTSTART:20201014T220000Z
DTEND:20201014T233000Z
X-MICROSOFT-CDO-ALLDAYEVENT:FALSE
SUMMARY:Sisu Therapies - Grand Opening & Ribbon Cutting
DESCRIPTION:Let's Celebrate NEW Business!\n\n\n\nThe Windsor Area Chamber of Commerce cordially invites you to the Ribbon Cutting & Grand opening of the Sisu Therapies.\n\n\n\n \n\nDate: Wednesday\, October 14th\n\nTime: 4 to 5:30 PM Ribbon Cutting - 4:30 PM\n\nLocation: 1230 W Ash Street\, Suite A\, Windsor Co.\n\n \n\n \n\nThe event will include appetizers\, light snacks\, and beverages compliments of Sisu Therapies. Although the Open House is a free event\, you are required to register so the Chamber has an accurate count of guests for food and drinks.
X-ALT-DESC;FMTTYPE=text/html:<strong style="color: rgb(51\, 51\, 51)\; font-family: sans-serif\, Arial\, Verdana\, &quot\;Trebuchet MS&quot\;\; font-size: 13px\;"><span style="color: rgb(29\, 53\, 103)\;"><span style="font-family: &quot\;trebuchet ms&quot\;\, sans-serif\;"><span style="font-size: 18pt\;">Let&#39\;s Celebrate NEW Business!</span></span></span></strong><br style="color: rgb(51\, 51\, 51)\; font-family: sans-serif\, Arial\, Verdana\, &quot\;Trebuchet MS&quot\;\; font-size: 13px\;" />\n<br style="color: rgb(51\, 51\, 51)\; font-family: sans-serif\, Arial\, Verdana\, &quot\;Trebuchet MS&quot\;\; font-size: 13px\;" />\n<span style="font-family: sans-serif\, Arial\, Verdana\, &quot\;Trebuchet MS&quot\;\; font-size: 13px\; color: rgb(46\, 47\, 47)\;"><span style="font-family: &quot\;trebuchet ms&quot\;\, sans-serif\;"><span style="font-size: 13.5pt\;">The Windsor Area Chamber of Commerce cordially invites you to the Ribbon Cutting &amp\; Grand opening of the Sisu Therapies.</span></span></span><br style="color: rgb(51\, 51\, 51)\; font-family: sans-serif\, Arial\, Verdana\, &quot\;Trebuchet MS&quot\;\; font-size: 13px\;" />\n<br style="color: rgb(51\, 51\, 51)\; font-family: sans-serif\, Arial\, Verdana\, &quot\;Trebuchet MS&quot\;\; font-size: 13px\;" />\n<span style="color: rgb(51\, 51\, 51)\; font-family: sans-serif\, Arial\, Verdana\, &quot\;Trebuchet MS&quot\;\; font-size: 13px\; background-color: rgb(255\, 255\, 255)\;">&nbsp\;</span><br style="color: rgb(51\, 51\, 51)\; font-family: sans-serif\, Arial\, Verdana\, &quot\;Trebuchet MS&quot\;\; font-size: 13px\;" />\n<strong style="color: rgb(51\, 51\, 51)\; font-family: sans-serif\, Arial\, Verdana\, &quot\;Trebuchet MS&quot\;\; font-size: 13px\;"><span style="color: rgb(46\, 47\, 47)\;"><span style="font-family: &quot\;trebuchet ms&quot\;\, sans-serif\;"><span style="font-size: 13.5pt\;">Date: Wednesday\, October 14th</span></span></span></strong><br style="color: rgb(51\, 51\, 51)\; font-family: sans-serif\, Arial\, Verdana\, &quot\;Trebuchet MS&quot\;\; font-size: 13px\;" />\n<strong style="color: rgb(51\, 51\, 51)\; font-family: sans-serif\, Arial\, Verdana\, &quot\;Trebuchet MS&quot\;\; font-size: 13px\;"><span style="color: rgb(46\, 47\, 47)\;"><span style="font-family: &quot\;trebuchet ms&quot\;\, sans-serif\;"><span style="font-size: 13.5pt\;">Time: 4 to 5:30 PM Ribbon Cutting - 4:30 PM</span></span></span></strong><br style="color: rgb(51\, 51\, 51)\; font-family: sans-serif\, Arial\, Verdana\, &quot\;Trebuchet MS&quot\;\; font-size: 13px\;" />\n<strong style="color: rgb(51\, 51\, 51)\; font-family: sans-serif\, Arial\, Verdana\, &quot\;Trebuchet MS&quot\;\; font-size: 13px\;"><span style="color: rgb(46\, 47\, 47)\;"><span style="font-family: &quot\;trebuchet ms&quot\;\, sans-serif\;"><span style="font-size: 13.5pt\;">Location: 1230 W Ash Street\, Suite A\, Windsor Co.</span></span></span></strong><br style="color: rgb(51\, 51\, 51)\; font-family: sans-serif\, Arial\, Verdana\, &quot\;Trebuchet MS&quot\;\; font-size: 13px\;" />\n<span style="color: rgb(51\, 51\, 51)\; font-family: sans-serif\, Arial\, Verdana\, &quot\;Trebuchet MS&quot\;\; font-size: 13px\; background-color: rgb(255\, 255\, 255)\;">&nbsp\;</span><br style="color: rgb(51\, 51\, 51)\; font-family: sans-serif\, Arial\, Verdana\, &quot\;Trebuchet MS&quot\;\; font-size: 13px\;" />\n<span style="color: rgb(51\, 51\, 51)\; font-family: sans-serif\, Arial\, Verdana\, &quot\;Trebuchet MS&quot\;\; font-size: 13px\; background-color: rgb(255\, 255\, 255)\;">&nbsp\;</span><br style="color: rgb(51\, 51\, 51)\; font-family: sans-serif\, Arial\, Verdana\, &quot\;Trebuchet MS&quot\;\; font-size: 13px\;" />\n<span style="font-family: sans-serif\, Arial\, Verdana\, &quot\;Trebuchet MS&quot\;\; font-size: 13px\; color: rgb(46\, 47\, 47)\;"><span style="font-family: &quot\;trebuchet ms&quot\;\, sans-serif\;"><span style="font-size: 13.5pt\;">The event will include appetizers\, light snacks\, and beverages compliments of </span></span></span><span style="color: rgb(46\, 47\, 47)\; font-family: &quot\;trebuchet ms&quot\;\, sans-serif\; font-size: 18px\; background-color: rgb(255\, 255\, 255)\;">Sisu Therapies</span><span style="font-family: sans-serif\, Arial\, Verdana\, &quot\;Trebuchet MS&quot\;\; font-size: 13px\; color: rgb(46\, 47\, 47)\;"><span style="font-family: &quot\;trebuchet ms&quot\;\, sans-serif\;"><span style="font-size: 13.5pt\;">. Although the Open House is a free event\, you are required to register so the Chamber has an accurate count of guests for food and drinks.&nbsp\;</span></span></span>
LOCATION:
UID:e.2900.4296
SEQUENCE:3
DTSTAMP:20260422T145913Z
URL:https://business.windsorchamber.net/events/details/sisu-therapies-grand-opening-ribbon-cutting-4296
END:VEVENT

END:VCALENDAR
