BEGIN:VCALENDAR
VERSION:2.0
PRODID:-//ChamberMaster//Event Calendar 2.0//EN
METHOD:PUBLISH
X-PUBLISHED-TTL:P3D
REFRESH-INTERVAL:P3D
CALSCALE:GREGORIAN
BEGIN:VEVENT
DTSTART;VALUE=DATE:20181124
DTEND;VALUE=DATE:20181125
TRANSP:TRANSPARENT
X-MICROSOFT-CDO-ALLDAYEVENT:TRUE
SUMMARY:Small Business Saturday.
DESCRIPTION:Support your LOCAL SMALL BUSINESSES in Windsor. Why fight the out of town malls\,stay in Windsor and buy local.
X-ALT-DESC;FMTTYPE=text/html:<span style="color: rgb(255\, 0\, 0)\;"><u><em><strong>Support your LOCAL SMALL BUSINESSES in Windsor</strong></em></u></span>. Why fight the out of town malls\,stay in Windsor and buy local.&nbsp\;
LOCATION:Businesses in the Windsor Community
UID:e.2900.1534
SEQUENCE:3
DTSTAMP:20260424T002816Z
URL:https://business.windsorchamber.net/events/details/small-business-saturday-1534
END:VEVENT

END:VCALENDAR
