BEGIN:VCALENDAR
VERSION:2.0
PRODID:-//ChamberMaster//Event Calendar 2.0//EN
METHOD:PUBLISH
X-PUBLISHED-TTL:P3D
REFRESH-INTERVAL:P3D
CALSCALE:GREGORIAN
BEGIN:VEVENT
DTSTART:20220111T180000Z
DTEND:20220111T193000Z
X-MICROSOFT-CDO-ALLDAYEVENT:FALSE
SUMMARY:Social Media Class "Let's Get #Social"
DESCRIPTION:Start your year off on the right foot! Get help with your social media strategy! Mona Tolleson\, CEO of MCT Marketing will be teaching a class on how to take your social media to the next level. She grew her social media from 700 followers to 10K in 6 months! She will be teaching you how to utilize her Let's Get Social Planner and helping you discover what is missing from your social media! Businesses often struggle with how to use hashtags\, how often they should post\, what they should post\, and often have questions about the algorithm. All your social media questions will get answered and you will leave with a brand new luxury planner! Lunch will be provided. \n\n \n\nTo read more about MCT Marketing and Mona Tolleson\, go to www.mctmarketing.com. \n\n\n\nLimited to 30 Registrations\n\nDate: Tuesday January 11th\n\nTime: 11 am to 12:30 pm\n\nLocation: 624 Ash Street\, Windsor Co\n\nCost: $50 - Includes "Let's Get Social" Planner and Lunch.
X-ALT-DESC;FMTTYPE=text/html:<br />\nStart your year off on the right foot! Get help with your social media strategy! Mona Tolleson\, CEO of MCT Marketing will be teaching a class on how to take your social media to the next level. She grew her social&nbsp\;media from 700 followers to 10K in 6 months! She will be teaching you how to utilize her Let&#39\;s Get Social Planner and helping you discover what is missing from your social media! Businesses often struggle with how to use hashtags\, how often they should post\, what they should post\, and often have questions about the algorithm. All your social media questions will get answered and you will leave with a brand new luxury planner! Lunch will be provided.&nbsp\;<br />\n&nbsp\;<br />\nTo read more about MCT Marketing and Mona Tolleson\, go to <a href="http://www.mctmarketing.com" target="_blank">www.mctmarketing.com</a>.&nbsp\;<br />\n<br />\nLimited to 30 Registrations<br />\nDate: Tuesday January 11th<br />\nTime: 11 am to 12:30 pm<br />\nLocation: 624 Ash Street\, Windsor Co<br />\nCost: $50 - Includes &quot\;Let&#39\;s Get Social&quot\; Planner and Lunch.
LOCATION:
UID:e.2900.5065
SEQUENCE:3
DTSTAMP:20260421T204626Z
URL:https://business.windsorchamber.net/events/details/social-media-class-let-s-get-social-5065
END:VEVENT

END:VCALENDAR
