BEGIN:VCALENDAR
VERSION:2.0
PRODID:-//ChamberMaster//Event Calendar 2.0//EN
METHOD:PUBLISH
X-PUBLISHED-TTL:P3D
REFRESH-INTERVAL:P3D
CALSCALE:GREGORIAN
BEGIN:VEVENT
DTSTART:20260410T200000Z
DTEND:20260410T230000Z
X-MICROSOFT-CDO-ALLDAYEVENT:FALSE
SUMMARY:Spring into Business Expo
DESCRIPTION:Shake off the winter blues and spring into connection at this high-energy business expo and networking event. Meet local businesses and nonprofits\, discover new resources in the community\, and build relationships that help Windsor thrive. Enjoy music\, giveaways\, and a lively atmosphere while making meaningful connections. It's networking\, Windsor-style   fun\, relaxed\, and full of opportunity.\n\n\n\nBusiness Vendors:\n\nVendor spaces are limited secure your spot today! Early Bird prices end March 31st!\n\nStandard & Priority placement vendor booths available\n\nLimited Sponsor spots available
X-ALT-DESC;FMTTYPE=text/html:Shake off the winter blues and <em data-end="470" data-start="446">spring into connection</em> at this high-energy business expo and networking event. Meet local businesses and nonprofits\, discover new resources in the community\, and build relationships that help Windsor thrive. Enjoy music\, giveaways\, and a lively atmosphere while making meaningful connections. It&rsquo\;s networking\, Windsor-style &mdash\; fun\, relaxed\, and full of opportunity.<br />\n<br />\n<strong>Business Vendors:</strong><br />\nVendor spaces are limited&mdash\;secure your spot today! <strong>Early Bird prices end March 31st!</strong><br />\nStandard &amp\; Priority placement vendor booths available<br />\nLimited Sponsor spots available
LOCATION:Main Event 4455 N. Fairground Ave. Windsor\, CO. 80550
UID:e.2900.15951
SEQUENCE:3
DTSTAMP:20260426T041016Z
URL:https://business.windsorchamber.net/events/details/spring-into-business-expo-15951
END:VEVENT

END:VCALENDAR
