BEGIN:VCALENDAR
VERSION:2.0
PRODID:-//ChamberMaster//Event Calendar 2.0//EN
METHOD:PUBLISH
X-PUBLISHED-TTL:P3D
REFRESH-INTERVAL:P3D
CALSCALE:GREGORIAN
BEGIN:VEVENT
DTSTART:20190227T003000Z
DTEND:20190227T023000Z
X-MICROSOFT-CDO-ALLDAYEVENT:FALSE
SUMMARY:Suicide: The Ribble Effect
DESCRIPTION:JOIN NORTH RANGE BEHAVIORAL HEALTH'S SUICIDE EDUCATION AND SUPPORT SERVICES (SESS) at a screening of "Suicide: The Ripple Effect."
X-ALT-DESC;FMTTYPE=text/html:JOIN NORTH RANGE BEHAVIORAL HEALTH&#39\;S SUICIDE EDUCATION AND SUPPORT SERVICES (SESS) at a screening of &quot\;Suicide: The Ripple Effect.&quot\;
LOCATION:Kress Cinema and Lounge 817 8th Avenue - Greeley\, Colorado
UID:e.2900.1572
SEQUENCE:3
DTSTAMP:20260423T204221Z
URL:https://business.windsorchamber.net/events/details/suicide-the-ribble-effect-1572
END:VEVENT

END:VCALENDAR
