BEGIN:VCALENDAR
VERSION:2.0
PRODID:-//ChamberMaster//Event Calendar 2.0//EN
METHOD:PUBLISH
X-PUBLISHED-TTL:P3D
REFRESH-INTERVAL:P3D
CALSCALE:GREGORIAN
BEGIN:VEVENT
DTSTART:20210610T220000Z
DTEND:20210611T010000Z
X-MICROSOFT-CDO-ALLDAYEVENT:FALSE
SUMMARY:Suite C Salon Grand Re-Opening & Sip & Shop
DESCRIPTION:Let's Celebrate Salon Expansion!\n\n \n\nThe Windsor Area Chamber of Commerce cordially invites you to the Ribbon Cutting & Grand opening of Suite C Salon.\n\n \n\nDate: June 10th\n\nTime: 4 to 7:00 PM Ribbon Cutting - 4:30 PM\n\nLocation:400 Main Street\, Suite C\, Windsor Co\n\n \n\n \n\nThe event will include refreshments compliments of Suite C Salon. Although the Open House is a free event\, you are required to register so the Chamber has an accurate count of guests for food and drinks.
X-ALT-DESC;FMTTYPE=text/html:<strong><span style="color:#1D3567\;"><span style="font-family:trebuchet ms\,sans-serif\;"><span style="font-size:18.0pt\;">Let&#39\;s Celebrate Salon Expansion!</span></span></span></strong><br />\n&nbsp\;<br />\n<span style="color:#2E2F2F\;"><span style="font-family:trebuchet ms\,sans-serif\;"><span style="font-size:13.5pt\;">The Windsor Area Chamber of Commerce cordially invites you to the Ribbon Cutting &amp\; Grand opening of Suite C Salon.</span></span></span><br />\n&nbsp\;<br />\n<strong><span style="color:#2E2F2F\;"><span style="font-family:trebuchet ms\,sans-serif\;"><span style="font-size:13.5pt\;">Date: June 10th</span></span></span></strong><br />\n<strong><span style="color:#2E2F2F\;"><span style="font-family:trebuchet ms\,sans-serif\;"><span style="font-size:13.5pt\;">Time: 4 to 7:00 PM Ribbon Cutting - 4:30 PM</span></span></span></strong><br />\n<strong><span style="color:#2E2F2F\;"><span style="font-family:trebuchet ms\,sans-serif\;"><span style="font-size:13.5pt\;">Location:400 Main Street\, Suite C\, Windsor Co</span></span></span></strong><br />\n&nbsp\;<br />\n&nbsp\;<br />\n<span style="color:#2E2F2F\;"><span style="font-family:trebuchet ms\,sans-serif\;"><span style="font-size:13.5pt\;">The event will include refreshments compliments of Suite C Salon. Although the Open House is a free event\, you are required to register so the Chamber has an accurate count of guests for food and drinks.&nbsp\;</span></span></span>
LOCATION:
UID:e.2900.4676
SEQUENCE:3
DTSTAMP:20260422T081547Z
URL:https://business.windsorchamber.net/events/details/suite-c-salon-grand-re-opening-sip-shop-4676
END:VEVENT

END:VCALENDAR
