BEGIN:VCALENDAR
VERSION:2.0
PRODID:-//ChamberMaster//Event Calendar 2.0//EN
METHOD:PUBLISH
X-PUBLISHED-TTL:P3D
REFRESH-INTERVAL:P3D
CALSCALE:GREGORIAN
BEGIN:VEVENT
DTSTART:20201016T140000Z
DTEND:20201016T160000Z
X-MICROSOFT-CDO-ALLDAYEVENT:FALSE
SUMMARY:TableTop Networking October 2020 at Pelican Lakes Golf Club
DESCRIPTION:Join us on the morning of Friday Octber 16th at the Pelican Lakes Golf Club\, Windsor\, Colorado. Come for fun\, business networking and education in our new and exciting event format\, while practicing social distancing - trust us - we've worked out how to do it! This is not the usual 'speed networking' - we put a spin on business networking and our way of getting to know businesses works for everyone - no matter how shy you may be! If you want to meet new people to expand your business network\, there is no more efficient format than our speed networking events! Bring 50+ business cards (yes\, we're serious about that number)\, a fun attitude and a prepared one minute elevator speed\, to include a 10-second 'ask'. Our attendees love this format as much as we do and we would love to see you whether this will be your first TableTop Networking event or your 15th. As always\, you *must* register at our Website: https://TableTopNetworking.com/
X-ALT-DESC;FMTTYPE=text/html:Join us on the morning of Friday Octber 16th at the Pelican Lakes Golf Club\, Windsor\, Colorado. Come for fun\, business networking and education in our new and exciting event format\, while practicing social distancing - trust us - we&#39\;ve worked out how to do it! This is not the usual &#39\;speed networking&#39\; - we put a spin on business networking and our way of getting to know businesses works for everyone - no matter how shy you may be! If you want to meet new people to expand your business network\, there is no more efficient format than our speed networking events! Bring 50+ business cards (yes\, we&#39\;re serious about that number)\, a fun attitude and a prepared one minute elevator speed\, to include a 10-second &lsquo\;ask&rsquo\;. Our attendees love this format as much as we do and we would love to see you whether this will be your first TableTop Networking event or your 15th. As always\, you *must* register at our Website: https://TableTopNetworking.com/
LOCATION:Pelican Lakes Golf Club 1620 Pelican Lakes Pt\, Windsor\, CO 80550
UID:e.2900.4497
SEQUENCE:3
DTSTAMP:20260422T185534Z
URL:https://business.windsorchamber.net/events/details/tabletop-networking-october-2020-at-pelican-lakes-golf-club-4497
END:VEVENT

END:VCALENDAR
