BEGIN:VCALENDAR
VERSION:2.0
PRODID:-//ChamberMaster//Event Calendar 2.0//EN
METHOD:PUBLISH
X-PUBLISHED-TTL:P3D
REFRESH-INTERVAL:P3D
CALSCALE:GREGORIAN
BEGIN:VEVENT
DTSTART:20200728T230000Z
DTEND:20200729T010000Z
X-MICROSOFT-CDO-ALLDAYEVENT:FALSE
SUMMARY:Ted's Sweetwater Grill Chamber Mixer
DESCRIPTION:Let's Celebrate one of Windsor's Newest Eateries.\n\n\n\nJoin Us ~ Windsor Area Chamber of Commerce Mixer at Ted's Sweetwater Grill & Trout Pond\n\n\n\nBusiness After Hours/Mixers\n\nEach month\, chamber members get together in comfortable\, relaxed settings for a great social/networking event. Enjoy refreshments and build lasting business relationships. Join the best!\n\n\n\nThis is the perfect opportunity to represent your business\, connect with other business owners\, get to the know the community and ultimately build relationships to enhance and grow your business.\n\n\n\nBoost your career or company as we introduce you to new connections in the business\, nonprofit and government sectors. Meet new clients\, customers and colleagues and have fun doing it.\n\nDon't forget your business cards!\n\n\n\nAbout:\n\nTed's Sweetwater Grill and Trout Pond is Northern Colorado's most exciting family fishing experience. The restaurant\, Ted's Sweetwater Grill\, is a perfect complement to the fishing pond. It offers not only trout tacos\, but burgers\, salads\, and an elk brat.
X-ALT-DESC;FMTTYPE=text/html:<span style="font-size:18px\;"><em style="color: rgb(51\, 51\, 51)\; font-family: sans-serif\, Arial\, Verdana\, &quot\;Trebuchet MS&quot\;\; font-size: 13px\;"><strong>Let&#39\;s Celebrate one of Windsor&#39\;s Newest Eateries.</strong></em></span><br />\n<br />\n<strong>Join Us ~ Windsor Area Chamber of Commerce Mixer at Ted&#39\;s Sweetwater Grill &amp\; Trout Pond</strong><br />\n<br />\n<strong>Business After Hours/Mixers</strong><br />\nEach month\, chamber members get together in comfortable\, relaxed settings for a great social/networking event. Enjoy refreshments and build lasting business relationships. Join the best!<br />\n<br />\nThis is the perfect opportunity to represent your business\, connect with other business owners\, get to the know the community and ultimately build relationships to enhance and grow your business.<br />\n<br />\nBoost your career or company as we introduce you to new connections in the business\, nonprofit and government sectors. Meet new clients\, customers and colleagues and have fun doing it.<br />\nDon&rsquo\;t forget your business cards!<br />\n<br />\n<strong>About:</strong><br />\nTed&#39\;s Sweetwater Grill and Trout Pond is Northern Colorado&#39\;s most exciting family fishing experience. The restaurant\, Ted&#39\;s Sweetwater Grill\, is a perfect complement to the fishing pond. It offers not only trout tacos\, but burgers\, salads\, and an elk brat.<br />\n&nbsp\;
LOCATION:
UID:e.2900.4285
SEQUENCE:3
DTSTAMP:20260422T214832Z
URL:https://business.windsorchamber.net/events/details/ted-s-sweetwater-grill-chamber-mixer-4285
END:VEVENT

END:VCALENDAR
