BEGIN:VCALENDAR
VERSION:2.0
PRODID:-//ChamberMaster//Event Calendar 2.0//EN
METHOD:PUBLISH
X-PUBLISHED-TTL:P3D
REFRESH-INTERVAL:P3D
CALSCALE:GREGORIAN
BEGIN:VEVENT
DTSTART:20180618T220000Z
DTEND:20180618T230000Z
X-MICROSOFT-CDO-ALLDAYEVENT:FALSE
SUMMARY:Teen Takeoff - The Get Ready Coaching Summer of Success Series
DESCRIPTION:Teen Takeoff\n\nThe Get Ready Coaching Summer of Success Series\n\nMaster the new 3 Rs to prepare for the best school year ever\n\nand "Get Ready" for the constantly changing real world.\n\nTeens have one shot to properly prepare for an ever-evolving future.\n\nIn the past every college graduate immediately found a high paying\n\njob. Now there are no guarantees. It is extremely costly to postpone\n\nreal world prep and use college as a self discovery process. Invest in\n\nquality support with Donovan Dreyer to benefit from nearly two\n\ndecades of teen challenge solutions. Call or text Coach Donovan at\n\n970-541-2560 to learn more and reserve your spot in Teen Takeoff\n\ntoday.
X-ALT-DESC;FMTTYPE=text/html:<span style="font-size: 16px\;"><strong>Teen Takeoff</strong></span><br />\nThe Get Ready Coaching Summer of Success Series<br />\nMaster the new 3 Rs to prepare for the best school year ever<br />\nand &quot\;Get Ready&quot\; for the constantly changing real world.<br />\nTeens have one shot to properly prepare for an ever-evolving future.<br />\nIn the past every college graduate immediately found a high paying<br />\njob. Now there are no guarantees. It is extremely costly to postpone<br />\nreal world prep and use college as a self discovery process. Invest in<br />\nquality support with Donovan Dreyer to benefit from nearly two<br />\ndecades of teen challenge solutions. Call or text Coach Donovan at<br />\n970-541-2560 to learn more and reserve your spot in Teen Takeoff<br />\ntoday.
LOCATION:Windsor Community Recreation Center 250 N. 11th Street\, Windsor
UID:e.2900.485
SEQUENCE:3
DTSTAMP:20260424T065019Z
URL:https://business.windsorchamber.net/events/details/teen-takeoff-the-get-ready-coaching-summer-of-success-series-485
END:VEVENT

END:VCALENDAR
