BEGIN:VCALENDAR
VERSION:2.0
PRODID:-//ChamberMaster//Event Calendar 2.0//EN
METHOD:PUBLISH
X-PUBLISHED-TTL:P3D
REFRESH-INTERVAL:P3D
CALSCALE:GREGORIAN
BEGIN:VEVENT
DTSTART:20201007T220000Z
DTEND:20201007T233000Z
X-MICROSOFT-CDO-ALLDAYEVENT:FALSE
SUMMARY:The Chiropractic Standard - Grand Opening & Ribbon Cutting
DESCRIPTION:Let's Celebrate NEW Business!\n\n\n\nThe Windsor Area Chamber of Commerce cordially invites you to the Ribbon Cutting & Grand opening of the Chiropractic Standard.\n\n\n\n \n\nDate: Wednesday\, October 7th\n\nTime: 4 to 5:30 PM Ribbon Cutting - 4:30 PM\n\nLocation: 2839 35th Ave\, Greeley CO 80634\n\n \n\n \n\nThe event will include appetizers\, light snacks\, and beverages compliments of The Chiropractic Standard. Although the Open House is a free event\, you are required to register so the Chamber has an accurate count of guests for food and drinks.
X-ALT-DESC;FMTTYPE=text/html:<strong><span style="color:#1D3567\;"><span style="font-family:trebuchet ms\,sans-serif\;"><span style="font-size:18.0pt\;">Let&#39\;s Celebrate NEW Business!</span></span></span></strong><br />\n<br />\n<span style="color:#2E2F2F\;"><span style="font-family:trebuchet ms\,sans-serif\;"><span style="font-size:13.5pt\;">The Windsor Area Chamber of Commerce cordially invites you to the Ribbon Cutting &amp\; Grand opening of the Chiropractic Standard.</span></span></span><br />\n<br />\n&nbsp\;<br />\n<strong><span style="color:#2E2F2F\;"><span style="font-family:trebuchet ms\,sans-serif\;"><span style="font-size:13.5pt\;">Date: Wednesday\, October 7th</span></span></span></strong><br />\n<strong><span style="color:#2E2F2F\;"><span style="font-family:trebuchet ms\,sans-serif\;"><span style="font-size:13.5pt\;">Time: 4 to 5:30 PM Ribbon Cutting - 4:30 PM</span></span></span></strong><br />\n<strong><span style="color:#2E2F2F\;"><span style="font-family:trebuchet ms\,sans-serif\;"><span style="font-size:13.5pt\;">Location: 2839 35th Ave\, Greeley CO 80634</span></span></span></strong><br />\n&nbsp\;<br />\n&nbsp\;<br />\n<span style="color:#2E2F2F\;"><span style="font-family:trebuchet ms\,sans-serif\;"><span style="font-size:13.5pt\;">The event will include appetizers\, light snacks\, and beverages compliments of The Chiropractic Standard. Although the Open House is a free event\, you are required to register so the Chamber has an accurate count of guests for food and drinks.&nbsp\;</span></span></span>
LOCATION:
UID:e.2900.4292
SEQUENCE:3
DTSTAMP:20260422T163030Z
URL:https://business.windsorchamber.net/events/details/the-chiropractic-standard-grand-opening-ribbon-cutting-4292
END:VEVENT

END:VCALENDAR
