BEGIN:VCALENDAR
VERSION:2.0
PRODID:-//ChamberMaster//Event Calendar 2.0//EN
METHOD:PUBLISH
X-PUBLISHED-TTL:P3D
REFRESH-INTERVAL:P3D
CALSCALE:GREGORIAN
BEGIN:VEVENT
DTSTART:20170607T010000Z
DTEND:20170607T020000Z
X-MICROSOFT-CDO-ALLDAYEVENT:FALSE
SUMMARY:Community Conversation with Town Board Member Paul Rennemeyer
DESCRIPTION:Paul Rennemeyer\, Town Board Member of Disrict  4\, will be holding a Community Conversation with the Windsor Community.
X-ALT-DESC;FMTTYPE=text/html:Paul Rennemeyer\, Town Board Member of Disrict&nbsp\; 4\, will be holding a Community Conversation with the Windsor Community.
LOCATION:Windsor Community/Recreation Center - Pine Room
UID:e.2900.67
SEQUENCE:3
DTSTAMP:20260425T005515Z
URL:https://business.windsorchamber.net/events/details/town-board-member-paul-rennemeyer-wil-answer-your-questions-67
END:VEVENT

END:VCALENDAR
