BEGIN:VCALENDAR
VERSION:2.0
PRODID:-//ChamberMaster//Event Calendar 2.0//EN
METHOD:PUBLISH
X-PUBLISHED-TTL:P3D
REFRESH-INTERVAL:P3D
CALSCALE:GREGORIAN
BEGIN:VEVENT
DTSTART:20210303T230000Z
DTEND:20210304T000000Z
X-MICROSOFT-CDO-ALLDAYEVENT:FALSE
SUMMARY:Urban Hippie Nail Lounge - Grand Opening/Ribbon Cutting
DESCRIPTION:Let's Celebrate Urban Hippie Nail Lounge \n\n& Brass Tree Massage & Wellness!\n\n \n\nThe Windsor Area Chamber of Commerce cordially invites you to the Ribbon Cutting & Grand opening of Urban Hippie Nail Lounge.\n\n \n\nDate: March 3rd \n\nTime: 4:00 PM to 5:00 PM Ribbon Cutting   4:30 PM\n\nLocation: 208 Main Street\, Windsor CO\n\n \n\nThe event will include light snacks\, and beverages compliments of Urban Hippie Nail Lounge. Although the Open House is a free event\, you are required to register so the Chamber has an accurate count of guests for food and drinks.
X-ALT-DESC;FMTTYPE=text/html:<br />\n<strong><span style="color:#1D3567\;"><span style="font-family:trebuchet ms\,sans-serif\;"><span style="font-size:18.0pt\;">Let&#39\;s Celebrate Urban Hippie Nail Lounge </span></span></span></strong><br />\n<strong><span style="color:#1D3567\;"><span style="font-family:trebuchet ms\,sans-serif\;"><span style="font-size:18.0pt\;">&amp\; Brass Tree Massage &amp\; Wellness!</span></span></span></strong><br />\n&nbsp\;<br />\n<span style="color:#2E2F2F\;"><span style="font-family:trebuchet ms\,sans-serif\;"><span style="font-size:13.5pt\;">The Windsor Area Chamber of Commerce cordially invites you to the Ribbon Cutting &amp\; Grand opening of Urban Hippie Nail Lounge.</span></span></span><br />\n&nbsp\;<br />\n<strong><span style="color:#2E2F2F\;"><span style="font-family:trebuchet ms\,sans-serif\;"><span style="font-size:13.5pt\;">Date: March 3rd </span></span></span></strong><br />\n<strong><span style="color:#2E2F2F\;"><span style="font-family:trebuchet ms\,sans-serif\;"><span style="font-size:13.5pt\;">Time: 4:00 PM to 5:00 PM Ribbon Cutting &ndash\; 4:30 PM</span></span></span></strong><br />\n<strong><span style="color:#2E2F2F\;"><span style="font-family:trebuchet ms\,sans-serif\;"><span style="font-size:13.5pt\;">Location: 208 Main Street\, Windsor CO</span></span></span></strong><br />\n&nbsp\;<br />\n<span style="color:#2E2F2F\;"><span style="font-family:trebuchet ms\,sans-serif\;"><span style="font-size:13.5pt\;">The event will include light snacks\, and beverages compliments of Urban Hippie Nail Lounge. Although the Open House is a free event\, you are required to register so the Chamber has an accurate count of guests for food and drinks.&nbsp\;</span></span></span><br />\n&nbsp\;<br />\n&nbsp\;
LOCATION:
UID:e.2900.4855
SEQUENCE:3
DTSTAMP:20260422T092642Z
URL:https://business.windsorchamber.net/events/details/urban-hippie-nail-lounge-grand-opening-ribbon-cutting-4855
END:VEVENT

END:VCALENDAR
