BEGIN:VCALENDAR
VERSION:2.0
PRODID:-//ChamberMaster//Event Calendar 2.0//EN
METHOD:PUBLISH
X-PUBLISHED-TTL:P3D
REFRESH-INTERVAL:P3D
CALSCALE:GREGORIAN
BEGIN:VEVENT
DTSTART:20200909T173000Z
DTEND:20200909T190000Z
X-MICROSOFT-CDO-ALLDAYEVENT:FALSE
SUMMARY:Webinar - Basics of HR: What You Need to Know – Facts on Compliance and Laws
DESCRIPTION:Please join Employment Services of Weld County and HRx Services for an Employer Webinar on the basics of Human Resources\, including FLSA\, Equal Pay Act\, Title VII\, ACA\, FMLA and ADAAA.
X-ALT-DESC;FMTTYPE=text/html:Please join Employment Services of Weld County and HRx Services for an Employer Webinar on the basics of Human Resources\, including FLSA\, Equal Pay Act\, Title VII\, ACA\, FMLA and ADAAA.
LOCATION:Zoom
UID:e.2900.4294
SEQUENCE:3
DTSTAMP:20260422T185539Z
URL:https://business.windsorchamber.net/events/details/webinar-basics-of-hr-what-you-need-to-know-facts-on-compliance-and-laws-4294
END:VEVENT

END:VCALENDAR
