BEGIN:VCALENDAR
VERSION:2.0
PRODID:-//ChamberMaster//Event Calendar 2.0//EN
METHOD:PUBLISH
X-PUBLISHED-TTL:P3D
REFRESH-INTERVAL:P3D
CALSCALE:GREGORIAN
BEGIN:VEVENT
DTSTART:20260430T130000Z
DTEND:20260430T150000Z
X-MICROSOFT-CDO-ALLDAYEVENT:FALSE
SUMMARY:Weld Friends Breakfast
DESCRIPTION:On April 30th\, from 7am-9am\, at Zoe's Cafe and Events in Greeley\, Project Self-Sufficiency will be hosting our annual Weld Friends' Breakfast! Join us for breakfast\, fellowship and networking while supporting single parents in Weld County on their journey toward self-sufficiency. The event is free to attend and will feature a breakfast buffet followed by a single parent sharing their lived experience of being a program participant and concluding with a mission moment and networking.
X-ALT-DESC;FMTTYPE=text/html:<span style="color:rgb(48\, 48\, 48)\; font-family:lato\,helvetica\,arial\,lucida\,sans-serif\; font-size:16px">On April 30th\,</span><span style="color:rgb(48\, 48\, 48)\; font-family:lato\,helvetica\,arial\,lucida\,sans-serif\; font-size:16px">&nbsp\;from 7am-9am\, at Zoe&rsquo\;s Cafe and Events in Greeley\, Project Self-Sufficiency will be hosting our annual Weld Friends&rsquo\; Breakfast! Join us for breakfast\, fellowship and networking while supporting single parents in Weld County on their journey toward self-sufficiency. The event is free to attend and will feature a breakfast buffet followed by a single parent sharing their lived experience of being a program participant and concluding with a mission moment and networking.</span>
LOCATION:Zoe's Cafe and Events\, Greeley\, CO
UID:e.2900.16086
SEQUENCE:3
DTSTAMP:20260423T085247Z
URL:https://business.windsorchamber.net/events/details/weld-friends-breakfast-16086
END:VEVENT

END:VCALENDAR
