BEGIN:VCALENDAR
VERSION:2.0
PRODID:-//ChamberMaster//Event Calendar 2.0//EN
METHOD:PUBLISH
X-PUBLISHED-TTL:P3D
REFRESH-INTERVAL:P3D
CALSCALE:GREGORIAN
BEGIN:VEVENT
DTSTART:20190301T010000Z
DTEND:20190301T024500Z
X-MICROSOFT-CDO-ALLDAYEVENT:FALSE
SUMMARY:Weld RE-4 Innovate LEARNERS SHOWCASE
DESCRIPTION:The annual Innovate RE-4 Learner's Showcase celebrates and displays K-12 student projects empowered by curiosity\, empathy\, agency\, iteration and collaboration.  Inspiring students hone their skills in creativity\, critical thinking and communication during the process of preparing for the Showcase with teacher mentors in order to tell their story of growth and learning in a culture of innovation at Weld RE-4.\n\nStudents are encouraged to submit proposals for their projects early in the year\, and work to polish their public speaking & presentation skills weeks before the Showcase.  The culminating 2 hour event features individual presentations\, group projects\, poster sessions\, and a hands-on Maker Space Playground.\n\nStudents\, parents\, teachers\, family\, neighbors and friends. Business owners\, local organizations\, governmental leadersand community members are encouraged to witness modern day learning that is preparing students for their future  beyond high school.
X-ALT-DESC;FMTTYPE=text/html:The annual Innovate RE-4 Learner&#39\;s Showcase celebrates and displays K-12 student projects empowered by curiosity\, empathy\, agency\, iteration and collaboration.&nbsp\; Inspiring students hone their skills in creativity\, critical thinking and communication during the process of preparing for the Showcase with teacher mentors in order to tell their story of growth and learning in a culture of innovation at Weld RE-4.<br />\nStudents are encouraged to submit proposals for their projects early in the year\, and work to polish their public speaking &amp\; presentation skills weeks before the Showcase.&nbsp\; The culminating 2 hour event features individual presentations\, group projects\, poster sessions\, and a hands-on Maker Space Playground.<br />\nStudents\, parents\, teachers\, family\, neighbors and friends. Business owners\, local organizations\, governmental leadersand community members are encouraged to witness modern day learning that is preparing students for their future&nbsp\; beyond high school.
LOCATION:Windsor High School Innovation Center 1010 Main Street 6pm to 7:45pm
UID:e.2900.1562
SEQUENCE:3
DTSTAMP:20260423T203717Z
URL:https://business.windsorchamber.net/events/details/weld-re-4-innovate-learners-showcase-1562
END:VEVENT

END:VCALENDAR
