BEGIN:VCALENDAR
VERSION:2.0
PRODID:-//ChamberMaster//Event Calendar 2.0//EN
METHOD:PUBLISH
X-PUBLISHED-TTL:P3D
REFRESH-INTERVAL:P3D
CALSCALE:GREGORIAN
BEGIN:VEVENT
DTSTART:20210203T153000Z
DTEND:20210203T160000Z
X-MICROSOFT-CDO-ALLDAYEVENT:FALSE
SUMMARY:Windermere Monthly Market Update with Eric Thompson // February
DESCRIPTION:Join us LIVE to hear about the latest real estate trends\, housing inventory\, pricing and the affects COVID-19 is having on the real estate market.\n\n\n\nAsk questions and have them answered live by Windermere Colorado Professional's President\, Eric Thompson.\n\n\n\nLIVE on Windermere Colorado Real Estate's Facebook page the first Wednesday of every month at 8:30 am.\n\n\n\nhttps://fb.me/e/4IctI7cif
X-ALT-DESC;FMTTYPE=text/html:<div>Join us LIVE to hear about the latest real estate trends\, housing inventory\, pricing and the affects COVID-19 is having on the real estate market.</div>\n\n<div><br />\nAsk questions and have them answered live by Windermere Colorado Professional&#39\;s President\, Eric Thompson.<br />\n<br />\n<strong>LIVE</strong>&nbsp\;on Windermere Colorado Real Estate&#39\;s Facebook page the&nbsp\;<strong><em>first Wednesday of every month at 8:30 am.</em></strong><br />\n<br />\n<a href="https://fb.me/e/4IctI7cif">https://fb.me/e/4IctI7cif</a></div>\n\n<div>\n<div style="text-align:inherit">&nbsp\;</div>\n</div>\n
LOCATION:Facebook: https://fb.me/e/4IctI7cif
UID:e.2900.4692
SEQUENCE:3
DTSTAMP:20260422T115400Z
URL:https://business.windsorchamber.net/events/details/windermere-monthly-market-update-with-eric-thompson-february-4692
END:VEVENT

END:VCALENDAR
